BEGIN:VCALENDAR
VERSION:2.0
PRODID:-//ChamberMaster//Event Calendar 2.0//EN
METHOD:PUBLISH
X-PUBLISHED-TTL:P3D
REFRESH-INTERVAL:P3D
CALSCALE:GREGORIAN
BEGIN:VEVENT
DTSTART:20180326T223000Z
DTEND:20180326T233000Z
X-MICROSOFT-CDO-ALLDAYEVENT:FALSE
SUMMARY:Kids Paint Night: Evening Session
DESCRIPTION:Afternoon Session: 1:00-2:00 p.m. \n\nEvening Session: 5:30-6:30 p.m.\n\n\n\nChildren will receive a canvas to create a unique masterpiece. Adults must accompany children under 6.\n\n\n\nSign up today at the check out counter or by calling the library at 608-643-8346.
X-ALT-DESC;FMTTYPE=text/html:Afternoon&nbsp\;Session:&nbsp\;1:00-2:00&nbsp\;p.m.&nbsp\;<br />\nEvening&nbsp\;Session:&nbsp\;5:30-6:30&nbsp\;p.m.<br />\n<br />\nChildren&nbsp\;will&nbsp\;receive&nbsp\;a&nbsp\;canvas&nbsp\;to&nbsp\;create&nbsp\;a&nbsp\;unique&nbsp\;masterpiece.&nbsp\;Adults&nbsp\;must&nbsp\;accompany&nbsp\;children&nbsp\;under&nbsp\;6.<br />\n<br />\nSign&nbsp\;up&nbsp\;today&nbsp\;at&nbsp\;the&nbsp\;check&nbsp\;out&nbsp\;counter&nbsp\;or&nbsp\;by&nbsp\;calling&nbsp\;the&nbsp\;library&nbsp\;at&nbsp\;608-643-8346.
LOCATION:
UID:e.1184.14664
SEQUENCE:3
DTSTAMP:20260424T143603Z
URL:http://members.saukprairie.com/events/details/art-studio-evening-14664
END:VEVENT

END:VCALENDAR
