BEGIN:VCALENDAR
VERSION:2.0
PRODID:-//ChamberMaster//Event Calendar 2.0//EN
METHOD:PUBLISH
X-PUBLISHED-TTL:P3D
REFRESH-INTERVAL:P3D
CALSCALE:GREGORIAN
BEGIN:VEVENT
DTSTART:20220402T000000Z
DTEND:20220402T020000Z
X-MICROSOFT-CDO-ALLDAYEVENT:FALSE
SUMMARY:Art & Wine Tasting Event
DESCRIPTION:River Arts Inc. invites you to enjoy an exclusive wine tasting with our artists! This event features seven red wines from around the world paired with local cheeses and chocolates.  Our very own artists act as your sommeliers for the evening while they give a brief artist talk about their work.
X-ALT-DESC;FMTTYPE=text/html:<span style="color:rgb(0\, 0\, 0)\; font-family:arial\,helvetica\,sans-serif">River Arts Inc. invites you to enjoy an exclusive wine tasting with our artists! This event features seven red wines from around the world paired with local cheeses and chocolates.&nbsp\; Our very own artists act as your sommeliers for the evening while they give a brief artist talk about their work.</span>
LOCATION:River Arts on Water Gallery 590 Water St Prairie du Sac\, WI 53578
UID:e.1184.27192
SEQUENCE:3
DTSTAMP:20260421T133653Z
URL:http://members.saukprairie.com/events/details/art-wine-tasting-event-27192
END:VEVENT

END:VCALENDAR
