BEGIN:VCALENDAR
VERSION:2.0
PRODID:-//ChamberMaster//Event Calendar 2.0//EN
METHOD:PUBLISH
X-PUBLISHED-TTL:P3D
REFRESH-INTERVAL:P3D
CALSCALE:GREGORIAN
BEGIN:VEVENT
DTSTART:20200111T160000Z
DTEND:20200111T220000Z
X-MICROSOFT-CDO-ALLDAYEVENT:FALSE
SUMMARY:Art Workshop: Alcohol Inks Art Camp with Beth Kluth
DESCRIPTION:In this special\, full-day alcohol ink workshop with Beth Kluth you'll explore different ink application techniques on various non-porous surfaces. We'll complete SIX projects including jewelry\, paintings\, cards and home decor pieces   and work with metal\, glass\, felt\, foil\, and even compressed air! This fun-filled day is sure to inspire\, and you'll leave with six beautiful alcohol ink creations. No prior experience necessary.
X-ALT-DESC;FMTTYPE=text/html:<span style="color:rgb(0\, 0\, 0)\; font-family:arial\,helvetica\,sans-serif">In this special\, full-day alcohol ink workshop with Beth Kluth you&rsquo\;ll explore different ink application techniques on various non-porous surfaces. We&rsquo\;ll complete SIX projects including jewelry\, paintings\, cards and home decor pieces &ndash\; and work with metal\, glass\, felt\, foil\, and even compressed air! This fun-filled day is sure to inspire\, and you&rsquo\;ll leave with six beautiful alcohol ink creations. No prior experience necessary.</span>
LOCATION:590 Water St\, Prairie du Sac\, WI 53578
UID:e.1184.23754
SEQUENCE:3
DTSTAMP:20260423T053452Z
URL:http://members.saukprairie.com/events/details/art-workshop-alcohol-inks-art-camp-with-beth-kluth-23754
END:VEVENT

END:VCALENDAR
