BEGIN:VCALENDAR
VERSION:2.0
PRODID:-//ChamberMaster//Event Calendar 2.0//EN
METHOD:PUBLISH
X-PUBLISHED-TTL:P3D
REFRESH-INTERVAL:P3D
CALSCALE:GREGORIAN
BEGIN:VEVENT
DTSTART:20200205T000000Z
DTEND:20200207T020000Z
X-MICROSOFT-CDO-ALLDAYEVENT:FALSE
SUMMARY:Art Workshop: Copper Jewelry Making with Therese Miskulin
DESCRIPTION:Copper Pea Pods Jewelry Making with Therese Miskulin-Brethorst\n\nTuesday and Thursday\, February 4 and 6\, 2020 | 6-8pm both nights | Ages 16+\n\n590 Water St\, Prairie du Sac\, WI 53578\n\nClass Fee: $85/person\n\n\n\nMake a pea pod necklace of your own design.  Learn to etch copper using basic inexpensive materials you can find in a hardware store such as hydrogen peroxide and muriatic acid.  Patina your pieces using a variety of household items such as salt and vinegar potato chips\, butane torch\, or ammonia with salt water spray.  Cold connect your components together using copper wire to make a pea pod necklace.  If you so aspire\, make a matching set of pea pod earrings. Suitable for beginners or those with some jewelry experience.
X-ALT-DESC;FMTTYPE=text/html:<p><strong>Copper Pea Pods Jewelry Making with Therese Miskulin-Brethorst</strong></p>\n\n<p><strong>Tuesday and Thursday\, February 4 and 6\, 2020 | 6-8pm both nights | Ages 16+</strong></p>\n\n<p><strong>590 Water St\, Prairie du Sac\, WI 53578</strong></p>\n\n<p><strong>Class Fee: $85/person</strong><br />\n<br />\n<span style="color:rgb(0\, 0\, 0)\; font-family:arial\,helvetica\,sans-serif">Make a pea pod necklace of your own design.&nbsp\; Learn to etch copper using basic inexpensive materials you can find in a hardware store such as hydrogen peroxide and muriatic acid.&nbsp\; Patina your pieces using a variety of household items such as salt and vinegar potato chips\, butane torch\, or ammonia with salt water spray.&nbsp\; Cold connect your components together using copper wire to make a pea pod necklace.&nbsp\; If you so aspire\, make a matching set of pea pod earrings. Suitable for beginners or those with some jewelry experience.</span></p>\n
LOCATION:590 Water St\, Prairie du Sac\, WI 53578
UID:e.1184.23983
SEQUENCE:3
DTSTAMP:20260423T041258Z
URL:http://members.saukprairie.com/events/details/art-workshop-copper-jewelry-making-with-therese-miskulin-23983
END:VEVENT

END:VCALENDAR
