BEGIN:VCALENDAR
VERSION:2.0
PRODID:-//ChamberMaster//Event Calendar 2.0//EN
METHOD:PUBLISH
X-PUBLISHED-TTL:P3D
REFRESH-INTERVAL:P3D
CALSCALE:GREGORIAN
BEGIN:VEVENT
DTSTART:20191116T010000Z
DTEND:20191116T030000Z
X-MICROSOFT-CDO-ALLDAYEVENT:FALSE
SUMMARY:Art Workshop: Etched Mirrors
DESCRIPTION:Crafts & Drafts: Etched Mirrors\n\nFriday\, November 15\, 2019 | 7-9pm | Ages 21+\n\n590 Water St\, Prairie du Sac\, WI 53578\n\n \n\nUpgrade a basic framed mirror with this fantastic class! Students will learn how to etch mirrors using acid etching cream and stencils. All materials provided\, including gloves and aprons. Ready to take home at the end of the night!\n\nCrafts & Drafts is a series of monthly classes based around the "wine and paint night" concept. We just decided to go with something a little more Wisconsin   so we added beer! These fun\, pressure-free classes are a great way to unwind after work\, meet up with friends\, celebrate a special event\, and make a cool project for your home.We encourage you to wear clothes that you don't mind getting dirty\, FYI. Each class lasts two hours\, and includes all necessary supplies\, a class instructor\, and two drink tickets. Come back each month to make a different project!
X-ALT-DESC;FMTTYPE=text/html:<p><strong>Crafts &amp\; Drafts: Etched Mirrors</strong></p>\n\n<p><strong>Friday\, November 15\, 2019 | 7-9</strong><strong>pm | Ages 21+</strong></p>\n\n<p><strong>590 Water St\, Prairie du Sac\, WI 53578</strong><br />\n&nbsp\;</p>\n\n<p>Upgrade a basic framed mirror with this fantastic class! Students will learn how to etch mirrors using acid etching cream and stencils. All materials provided\, including gloves and aprons. Ready to take home at the end of the night!</p>\n\n<p>Crafts &amp\; Drafts is a series of monthly classes based around the &ldquo\;wine and paint night&rdquo\; concept. We just decided to go with something a little more Wisconsin &ndash\; so we added beer! These fun\, pressure-free classes are a great way to unwind after work\, meet up with friends\, celebrate a special event\, and make a cool project for your home.We encourage you to wear clothes that you don&rsquo\;t mind getting dirty\, FYI. Each class lasts two hours\, and includes all necessary supplies\, a class instructor\, and two drink tickets. Come back each month to make a different project!</p>\n
LOCATION:River Arts Studio 590 Water St Prairie du Sac
UID:e.1184.22371
SEQUENCE:3
DTSTAMP:20260423T083054Z
URL:http://members.saukprairie.com/events/details/art-workshop-etched-mirrors-22371
END:VEVENT

END:VCALENDAR
