BEGIN:VCALENDAR
VERSION:2.0
PRODID:-//ChamberMaster//Event Calendar 2.0//EN
METHOD:PUBLISH
X-PUBLISHED-TTL:P3D
REFRESH-INTERVAL:P3D
CALSCALE:GREGORIAN
BEGIN:VEVENT
DTSTART:20190608T150000Z
DTEND:20190609T080000Z
X-MICROSOFT-CDO-ALLDAYEVENT:FALSE
SUMMARY:Art Workshop: Finding Your Voice in Mixed Media
DESCRIPTION:Sat-Sun\, June 8-9\, 2019 | 10am-3pm both days | 590 Water St\, Prairie du Sac\, WI\n\nEarly bird registration: $150 through May 25\, $165 after May 25\n\nFind Your Inner Artist's Voice in Mixed Media with Helen Klebesadel\n\nAre you interested in being more intentional about your creativity? Do you want to use your creative process to grow and expand your vision for your art and your life? Are you interested in discovering new motivations and your own unique subject matter for your artwork? In this arts-based mixed-media workshop you will explore process-based art strategies for expanding personally important themes in your artwork and have lots of fun doing it.\n\nJoin artist and creativity coach Helen Klebesadel for this 2-day mixed-media creativity workshop for creatives at all levels (non-artists thinking about the place of creativity in their lives are welcome too). Plan to expand your creative process and subject matter through a series of individualized exercises designed to help you create a stronger vision for your creative life and your art.  Build on what you already know while exploring creative ways to go deeper in developing your artworks and an artistic voice that is authentically your own.
X-ALT-DESC;FMTTYPE=text/html:<p><strong>Sat-Sun\, June 8-9\, 2019 | 10am-3pm both days | 590 Water St\, Prairie du Sac\, WI</strong></p>\n\n<p><strong>Early bird registration: $150 through May 25\, $165 after May 25</strong></p>\n\n<p><strong>Find Your Inner Artist&rsquo\;s Voice in Mixed Media with Helen Klebesadel</strong></p>\n\n<p>Are you interested in being more intentional about your creativity? Do you want to use your creative process to grow and expand your vision for your art and your life? Are you interested in discovering new motivations and your own unique subject matter for your artwork? In this arts-based mixed-media workshop you will explore process-based art strategies for expanding personally important themes in your artwork and have lots of fun doing it.</p>\n\n<p>Join artist and creativity coach Helen Klebesadel for this 2-day mixed-media creativity workshop for creatives at all levels (non-artists thinking about the place of creativity in their lives are welcome too).&nbsp\;Plan to expand your creative process and subject matter through a series of individualized exercises designed to help you create a stronger vision for your creative life and your art. &nbsp\;Build on what you already know while exploring creative ways to go deeper in developing your artworks and&nbsp\;an artistic&nbsp\;voice that is&nbsp\;authentically&nbsp\;your own.</p>\n
LOCATION:River Arts Studio 590 Water St Prairie du Sac
UID:e.1184.22354
SEQUENCE:3
DTSTAMP:20260423T154052Z
URL:http://members.saukprairie.com/events/details/art-workshop-finding-your-voice-in-mixed-media-22354
END:VEVENT

END:VCALENDAR
