BEGIN:VCALENDAR
VERSION:2.0
PRODID:-//ChamberMaster//Event Calendar 2.0//EN
METHOD:PUBLISH
X-PUBLISHED-TTL:P3D
REFRESH-INTERVAL:P3D
CALSCALE:GREGORIAN
BEGIN:VEVENT
DTSTART:20180915T140000Z
DTEND:20180916T210000Z
X-MICROSOFT-CDO-ALLDAYEVENT:FALSE
SUMMARY:Art Workshop: Intro to Watercolor
DESCRIPTION:Saturday-Sunday September 15-16\, 2018 | 9:00am-4:00pm both days (end time is flexible)\n\nEarly Bird registration: $150 through September 1\, $160 after September 1\n\nThis class will cover the following topics\, time permitting and based on student interest. You can bring photos of things you'd like to paint\, or actual objects.\n\n\n	Pigment properties\n	Masking & lifting techniques\n	Color mixing using the color wheel\n	Brushwork & texture options\n	Wash & glazing techniques\n	Working from photos & from life\n	Making shadows\n\n\nCynthia Quinn has been painting in oils and watercolor for 25 years\, and is a signature member of the Transparent Watercolor Society of America. The reason she paints? She never tires of the challenges and how it develops awareness of the world around her.
X-ALT-DESC;FMTTYPE=text/html:<p><strong>Saturday-Sunday September 15-16\, 2018 | 9:00am-4:00pm both days (end time is flexible)</strong></p>\n\n<p><strong>Early Bird registration: $150 through September 1\, $160 after September 1</strong></p>\n\n<p>This class will cover the following topics\, time permitting and based on student interest. You can bring photos of things you&rsquo\;d like to paint\, or actual objects.</p>\n\n<ul>\n	<li>Pigment properties</li>\n	<li>Masking &amp\; lifting techniques</li>\n	<li>Color mixing using the color wheel</li>\n	<li>Brushwork &amp\; texture options</li>\n	<li>Wash &amp\; glazing techniques</li>\n	<li>Working from photos &amp\; from life</li>\n	<li>Making shadows</li>\n</ul>\n\n<p>Cynthia Quinn has been painting in oils and watercolor for 25 years\, and is a signature member of the Transparent Watercolor Society of America. The reason she paints? She never tires of the challenges and how it develops awareness of the world around her.</p>\n
LOCATION:River Arts on Water Gallery 590 Water St Prairie du Sac\, WI 53578
UID:e.1184.18172
SEQUENCE:3
DTSTAMP:20260424T064144Z
URL:http://members.saukprairie.com/events/details/art-workshop-intro-to-watercolor-18172
END:VEVENT

END:VCALENDAR
