BEGIN:VCALENDAR
VERSION:2.0
PRODID:-//ChamberMaster//Event Calendar 2.0//EN
METHOD:PUBLISH
X-PUBLISHED-TTL:P3D
REFRESH-INTERVAL:P3D
CALSCALE:GREGORIAN
BEGIN:VEVENT
DTSTART;VALUE=DATE:20190817
DTEND;VALUE=DATE:20190819
TRANSP:TRANSPARENT
X-MICROSOFT-CDO-ALLDAYEVENT:TRUE
SUMMARY:Art Workshop: Introduction to Watercolors
DESCRIPTION:Introduction to Watercolor with Cynthia Quinn\n\nSaturday-Sunday\, August 17-18\, 2019 | 9am-4pm both days | Ages 16+\n\n590 Water St\, Prairie du Sac\, WI 53578\n\n \n\nThis class will cover the following topics\, time permitting and based on student interest. You can bring photos of things you'd like to paint\, or actual objects.\n\n\n	Pigment properties\n	Masking & lifting techniques\n	Color mixing using the color wheel\n	Brushwork & texture options\n	Wash & glazing techniques\n	Working from photos & from life\n	Making shadows\n\n\nCynthia Quinn has been painting in oils and watercolor for 25 years\, and is a signature member of the Transparent Watercolor Society of America. The reason she paints? She never tires of the challenges and how it develops awareness of the world around her.
X-ALT-DESC;FMTTYPE=text/html:<p><strong>Introduction to Watercolor with Cynthia Quinn</strong></p>\n\n<p><strong>Saturday-Sunday\, August 17-18\, 2019 |&nbsp\;</strong><strong>9am-4pm both days | Ages 16+</strong></p>\n\n<p><strong>590 Water St\, Prairie du Sac\, WI 53578</strong><br />\n&nbsp\;</p>\n\n<p>This class will cover the following topics\, time permitting and based on student interest. You can bring photos of things you&rsquo\;d like to paint\, or actual objects.</p>\n\n<ul>\n	<li>Pigment properties</li>\n	<li>Masking &amp\; lifting techniques</li>\n	<li>Color mixing using the color wheel</li>\n	<li>Brushwork &amp\; texture options</li>\n	<li>Wash &amp\; glazing techniques</li>\n	<li>Working from photos &amp\; from life</li>\n	<li>Making shadows</li>\n</ul>\n\n<p>Cynthia Quinn has been painting in oils and watercolor for 25 years\, and is a signature member of the Transparent Watercolor Society of America. The reason she paints? She never tires of the challenges and how it develops awareness of the world around her.</p>\n
LOCATION:River Arts Studio 590 Water St Prairie du Sac
UID:e.1184.22363
SEQUENCE:3
DTSTAMP:20260423T141315Z
URL:http://members.saukprairie.com/events/details/art-workshop-introduction-to-watercolors-22363
END:VEVENT

END:VCALENDAR
