BEGIN:VCALENDAR
VERSION:2.0
PRODID:-//ChamberMaster//Event Calendar 2.0//EN
METHOD:PUBLISH
X-PUBLISHED-TTL:P3D
REFRESH-INTERVAL:P3D
CALSCALE:GREGORIAN
BEGIN:VEVENT
DTSTART:20200118T150000Z
DTEND:20200118T220000Z
X-MICROSOFT-CDO-ALLDAYEVENT:FALSE
SUMMARY:Art Workshop: Landscape in Tapestry Weaving with Ruth Manning
DESCRIPTION:Try tapestry weaving and discover the unique design elements possible while using your own hand-spun\, novelty yarns and hand-dyed yarns. Students will weave a small tapestry landscape contrasting these textured fibers with smoother commercial yarn. We will discuss loom set up\, the basics of tapestry weaving\, and how to approach designing a simple landscape. The instructor will provide all materials including looms and yarn\, discuss the finishing of tapestry\, and show examples of her work. All levels of experience are welcome\, including complete beginners and those with some weaving background.
X-ALT-DESC;FMTTYPE=text/html:<span style="color:rgb(0\, 0\, 0)\; font-family:arial\,helvetica\,sans-serif">Try tapestry weaving and discover the unique design elements possible while using your own hand-spun\, novelty yarns and hand-dyed yarns. Students will weave a small tapestry landscape contrasting these textured fibers with smoother commercial yarn. We will discuss loom set up\, the basics of tapestry weaving\, and how to approach designing a simple landscape. The instructor will provide all materials including looms and yarn\, discuss the finishing of tapestry\, and show examples of her work. All levels of experience are welcome\, including complete beginners and those with some weaving background.</span>
LOCATION:590 Water St\, Prairie du Sac\, WI 53578
UID:e.1184.23755
SEQUENCE:3
DTSTAMP:20260423T053900Z
URL:http://members.saukprairie.com/events/details/art-workshop-landscape-in-tapestry-weaving-with-ruth-manning-23755
END:VEVENT

END:VCALENDAR
