BEGIN:VCALENDAR
VERSION:2.0
PRODID:-//ChamberMaster//Event Calendar 2.0//EN
METHOD:PUBLISH
X-PUBLISHED-TTL:P3D
REFRESH-INTERVAL:P3D
CALSCALE:GREGORIAN
BEGIN:VEVENT
DTSTART:20180929T000000Z
DTEND:20180929T020000Z
X-MICROSOFT-CDO-ALLDAYEVENT:FALSE
SUMMARY:Art Workshop: Lovebird String Art
DESCRIPTION:Lovebird String Art\n\nFriday\, September 28\, 2018 | 7-9pm | 590 Water St\, Prairie du Sac\, WI\n\nEarly bird registration: $40 through September 14\, $48 after September 14. *Register early: string art has sold out 4 classes in a row!\n\nMake a little something special for that special someone out there\, or show your mom/best friend/sibling exactly how much they mean to you! Whoever you have in mind\, this cute\, rustic project will be the perfect way to show them how you feel (or keep it for yourself!). Our instructor will guide you through the process of staining a block of wood\, hammering nails to create the outline of two birds\, and then show you several ways to wind the string into patterns. Choose from multiple stain colors and tons of string options. Then you'll string a wire for the two birds to sit on together. The whole project will be finished by the end of the night\, ready for you to take home! Final size is 12 x12  w/ hanger provided.\n\nCrafts & Drafts is a series of monthly classes based around the "wine and paint night" concept. We just decided to go with something a little more Wisconsin   so we added beer! These fun\, pressure-free classes are a great way to unwind after work\, meet up with friends\, celebrate a special event\, and make a cool project for your home. Each class lasts two hours\, and includes all necessary supplies\, a class instructor\, and two drink tickets. Come back each month to make a different project!   Cheers!\n\n*Open to ages 21+ unless otherwise noted in class description. 18+ allowed with parents also registered in attendance
X-ALT-DESC;FMTTYPE=text/html:<p><strong>Lovebird String Art</strong></p>\n\n<p><strong>Friday\, September 28\, 2018 | 7-9pm | 590 Water St\, Prairie du Sac\, WI</strong></p>\n\n<p><strong>Early bird registration: $40 through September 14\, $48 after September 14. *Register early: string art has sold out 4 classes in a row!</strong></p>\n\n<p>Make a little something special for that special someone out there\, or show your mom/best friend/sibling exactly how much they mean to you! Whoever you have in mind\, this cute\, rustic project will be the perfect way to show them how you feel (or keep it for yourself!). Our instructor will guide you through the process of staining a block of&nbsp\;wood\, hammering nails to create the outline of two birds\, and then show you several ways to wind the string into patterns. Choose from multiple stain colors and tons of string options. Then you&rsquo\;ll string a wire for the two birds to sit on together. The whole project&nbsp\;will be finished by the end of the night\, ready for you to take home! Final size is 12&Prime\;x12&Prime\; w/ hanger provided.</p>\n\n<p>Crafts &amp\; Drafts is a series of monthly classes based around the &ldquo\;wine and paint night&rdquo\; concept. We just decided to go with something a little more Wisconsin &ndash\; so we added beer! These fun\, pressure-free classes are a great way to unwind after work\, meet up with friends\, celebrate a special event\, and make a cool project for your home. Each class lasts two hours\, and includes all necessary supplies\, a class instructor\, and two drink tickets. Come back each month to make a different project! &ndash\; Cheers!</p>\n\n<p><em>*Open to ages 21+ unless otherwise noted in class description. 18+ allowed with parents also registered in attendance</em></p>\n
LOCATION:River Arts on Water Gallery 590 Water St Prairie du Sac\, WI 53578
UID:e.1184.18173
SEQUENCE:3
DTSTAMP:20260424T050742Z
URL:http://members.saukprairie.com/events/details/art-workshop-lovebird-string-art-18173
END:VEVENT

END:VCALENDAR
