BEGIN:VCALENDAR
VERSION:2.0
PRODID:-//ChamberMaster//Event Calendar 2.0//EN
METHOD:PUBLISH
X-PUBLISHED-TTL:P3D
REFRESH-INTERVAL:P3D
CALSCALE:GREGORIAN
BEGIN:VEVENT
DTSTART:20180818T140000Z
DTEND:20180818T200000Z
X-MICROSOFT-CDO-ALLDAYEVENT:FALSE
SUMMARY:Art Workshop: Making Glass Beads
DESCRIPTION:Saturday\, August 18\, 2018 | 9am-3pm | 590 Water St\, Prairie du Sac\, WI\n\nEarly Bird registration: $150 through August 4\, $165 after August 4\n\nA hands-on introduction to making glass beads! All skill levels welcome\, especially beginners. All materials (including safety materials) and tools are provided\, no experience necessary! Students can expect to make 10-15 beads depending on pace and intricacy of designs.\n\nAbout the instructor: Julie Lukosaitis has a passion for making glass beads in the small flame of a torch. She has been a glass flameworking instructor for almost 20 years. She is the owner of Beadazzled By Julz\, and travels around Wisconsin with her glass studio teaching classes. Julie has many years of experience working in public education and teaching to different learning levels. She believes the best reward for a teacher is seeing the joy her students feel with their own creativity and building on their skills. When that happens\, she can see their confidence grow\, and it shows in their work.
X-ALT-DESC;FMTTYPE=text/html:<p><strong>Saturday\, August 18\, 2018 | 9am-3pm | 590 Water St\, Prairie du Sac\, WI</strong></p>\n\n<p><strong>Early Bird registration: $150 through August 4\, $165 after August 4</strong></p>\n\n<p>A hands-on introduction to making glass beads! All skill levels welcome\, especially beginners. All materials (including safety materials) and tools are provided\, no experience necessary! Students can expect to make 10-15 beads depending on pace and intricacy of designs.</p>\n\n<p>About the instructor:&nbsp\;Julie Lukosaitis has a passion for making glass beads in the small flame of a torch. She has been a glass flameworking instructor for almost 20 years. She is the owner of Beadazzled By Julz\, and travels around Wisconsin with her glass studio teaching classes. Julie has many years of experience working in public education and teaching to different learning levels. She believes the best reward for a teacher is seeing the joy her students feel with their own creativity and building on their skills. When that happens\, she can see their confidence grow\, and it shows in their work.</p>\n
LOCATION:River Arts on Water Gallery 590 Water St Prairie du Sac\, WI 53578
UID:e.1184.18163
SEQUENCE:3
DTSTAMP:20260424T063851Z
URL:http://members.saukprairie.com/events/details/art-workshop-making-glass-beads-18163
END:VEVENT

END:VCALENDAR
