BEGIN:VCALENDAR
VERSION:2.0
PRODID:-//ChamberMaster//Event Calendar 2.0//EN
METHOD:PUBLISH
X-PUBLISHED-TTL:P3D
REFRESH-INTERVAL:P3D
CALSCALE:GREGORIAN
BEGIN:VEVENT
DTSTART:20190511T000000Z
DTEND:20190511T020000Z
X-MICROSOFT-CDO-ALLDAYEVENT:FALSE
SUMMARY:Art Workshop: Mason Jar String Art
DESCRIPTION:Crafts & Drafts: Mason Jar String Art\n\nFriday\, May 10\, 2019 | 7-9pm | 590 Water St\, Prairie du Sac\, WI | 21+ only\n\nEarly Bird Registration: $50 before April 26\, $60 after April 26\n\nBuild yourself a custom vase with this fun string art class! Our instructor will guide you through the process of staining a block of wood\, hammering nails to create the outline of the mason jar\, and then show you several ways to wind the string into patterns. New for this class\, you'll then be able to choose from a variety of artificial flowers to help decorate your vase! The whole project will be finished by the end of the night\, ready for you to take home! Final pieces are 12 h x 8 w with a hanger on the back.\n\nCrafts & Drafts is a series of monthly classes based around the "wine and paint night" concept. We just decided to go with something a little more Wisconsin   so we added beer! These fun\, pressure-free classes are a great way to unwind after work\, meet up with friends\, celebrate a special event\, and make a cool project for your home.We encourage you to wear clothes that you don't mind getting dirty\, FYI. Each class lasts two hours\, and includes all necessary supplies\, a class instructor\, and two drink tickets.
X-ALT-DESC;FMTTYPE=text/html:<p><strong>Crafts &amp\; Drafts: Mason Jar String Art</strong></p>\n\n<p><strong>Friday\, May 10\, 2019 | 7-9pm | 590 Water St\, Prairie du Sac\, WI | 21+ only</strong></p>\n\n<p><strong>Early Bird Registration: $50 before April 26\, $60 after April 26</strong></p>\n\n<p>Build yourself a custom vase with this fun string art class! Our instructor will guide you through the process of staining a block of wood\, hammering nails to create the outline of the mason jar\, and then show you several ways to wind the string into patterns. New for this class\, you&rsquo\;ll then be able to choose from a variety of artificial flowers to help decorate your vase! The whole project will be finished by the end of the night\, ready for you to take home! Final pieces are 12&Prime\;h x 8&Prime\;w with a hanger on the back.</p>\n\n<p>Crafts &amp\; Drafts is a series of monthly classes based around the &ldquo\;wine and paint night&rdquo\; concept. We just decided to go with something a little more Wisconsin &ndash\; so we added beer! These fun\, pressure-free classes are a great way to unwind after work\, meet up with friends\, celebrate a special event\, and make a cool project for your home.We encourage you to wear clothes that you don&rsquo\;t mind getting dirty\, FYI. Each class lasts two hours\, and includes all necessary supplies\, a class instructor\, and two drink tickets.</p>\n
LOCATION:River Arts on Water Studio 590 Water St Prairie du Sac\, WI 53578
UID:e.1184.21990
SEQUENCE:3
DTSTAMP:20260423T171322Z
URL:http://members.saukprairie.com/events/details/art-workshop-mason-jar-string-art-21990
END:VEVENT

END:VCALENDAR
