BEGIN:VCALENDAR
VERSION:2.0
PRODID:-//ChamberMaster//Event Calendar 2.0//EN
METHOD:PUBLISH
X-PUBLISHED-TTL:P3D
REFRESH-INTERVAL:P3D
CALSCALE:GREGORIAN
BEGIN:VEVENT
DTSTART:20191012T180000Z
DTEND:20191012T210000Z
X-MICROSOFT-CDO-ALLDAYEVENT:FALSE
SUMMARY:Art Workshop: Orizome Paper Dyeing
DESCRIPTION:Orizome Paper Dyeing with Karen Timm\n\nSaturday\, October 12\, 2019 | 1pm-4pm | Ages 10+\n\n590 Water St\, Prairie du Sac\, WI 53578\n\n(or   i   zoh'   me)\n\nHave fun learning how to create decorative papers using an age-old Japanese papercraft technique. Orizome combines "origami" paper folding and colored pigment dip-dyeing. In this class you'll learn what kind of paper to use\, how to fold it\, then experiment in different ways of applying the color dyes. For this class we'll be using food coloring and kozo paper. You'll get to mix your own colors and create your own color combinations.  We'll experiment with creating a variety of patterns\, which often have surprising results and not always where we intended to go. All papers will end up as one-of-a-kind!
X-ALT-DESC;FMTTYPE=text/html:<p><strong>Orizome Paper Dyeing with Karen Timm</strong></p>\n\n<p><strong>Saturday\, October 12\, 2019 | 1pm</strong><strong>-4pm | Ages 10+</strong></p>\n\n<p><strong>590 Water St\, Prairie du Sac\, WI 53578</strong></p>\n\n<p>(or &bull\; i &bull\; zoh&rsquo\; &bull\; me)</p>\n\n<p>Have fun learning how to create decorative papers using an age-old Japanese papercraft technique. Orizome combines &ldquo\;origami&rdquo\; paper folding and colored pigment dip-dyeing. In this class you&rsquo\;ll learn what kind of paper to use\, how to fold it\, then experiment in different ways of applying the color dyes. For this class we&rsquo\;ll be using food coloring and kozo paper. You&rsquo\;ll get to mix your own colors and create your own color combinations.&nbsp\; We&rsquo\;ll experiment with creating a variety of patterns\, which often have surprising results and not always where we intended to go. All papers will end up as one-of-a-kind!</p>\n
LOCATION:River Arts Studio 590 Water St Prairie du Sac
UID:e.1184.22366
SEQUENCE:3
DTSTAMP:20260423T095232Z
URL:http://members.saukprairie.com/events/details/art-workshop-orizome-paper-dyeing-22366
END:VEVENT

END:VCALENDAR
