BEGIN:VCALENDAR
VERSION:2.0
PRODID:-//ChamberMaster//Event Calendar 2.0//EN
METHOD:PUBLISH
X-PUBLISHED-TTL:P3D
REFRESH-INTERVAL:P3D
CALSCALE:GREGORIAN
BEGIN:VEVENT
DTSTART:20190720T180000Z
DTEND:20190720T200000Z
X-MICROSOFT-CDO-ALLDAYEVENT:FALSE
SUMMARY:Art Workshop: Paper Marbling
DESCRIPTION:Paper Marbling with Bare Knuckle Arts\n\nSaturday\, July 20\, 2019 | 1-3pm | Ages 8+\n\n590 Water St\, Prairie du Sac\, WI 53578\n\n \n\nLearn to marble paper for use in book making\, writing letters\, table/shelf decoration\, wrapping paper\, scrapbooking\, or anything else you'd like to do with it! This is true suminagashi paper marbling: floating ink on water and dipping paper into it. Instructor Amy Mietzel of Bare Knuckle Arts will provide various sized vats and all the inks and paper\, and guide students on adding color\, mixing patterns\, and dipping paper. Participants in this class can expect to make 3-5 sheets of marbled paper (maybe more depending on how fast you are!)\, ready to take home at the end of class.\n\nNo prior experience required\; aprons are available but we suggest you wear clothing you wouldn't mind getting dirty.
X-ALT-DESC;FMTTYPE=text/html:<p><strong>Paper Marbling with Bare Knuckle Arts</strong></p>\n\n<p><strong>Saturday\, July 20\, 2019 | 1-3</strong><strong>pm | Ages 8+</strong></p>\n\n<p><strong>590 Water St\, Prairie du Sac\, WI 53578</strong><br />\n&nbsp\;</p>\n\n<p>Learn to marble paper for use in book making\, writing letters\, table/shelf decoration\, wrapping paper\, scrapbooking\, or anything else you&rsquo\;d like to do with it! This is true suminagashi paper marbling: floating ink on water and dipping paper into it. Instructor Amy Mietzel of Bare Knuckle Arts will provide various sized vats and all the inks and paper\, and guide students on adding color\, mixing patterns\, and dipping paper. Participants in this class can expect to make 3-5 sheets of marbled paper (maybe more depending on how fast you are!)\, ready to take home at the end of class.</p>\n\n<p>No prior experience required\; aprons are available but we suggest you wear clothing you wouldn&rsquo\;t mind getting dirty.</p>\n
LOCATION:River Arts Studio 590 Water St Prairie du Sac
UID:e.1184.22357
SEQUENCE:3
DTSTAMP:20260423T153255Z
URL:http://members.saukprairie.com/events/details/art-workshop-paper-marbling-22357
END:VEVENT

END:VCALENDAR
