BEGIN:VCALENDAR
VERSION:2.0
PRODID:-//ChamberMaster//Event Calendar 2.0//EN
METHOD:PUBLISH
X-PUBLISHED-TTL:P3D
REFRESH-INTERVAL:P3D
CALSCALE:GREGORIAN
BEGIN:VEVENT
DTSTART:20191005T150000Z
DTEND:20191005T210000Z
X-MICROSOFT-CDO-ALLDAYEVENT:FALSE
SUMMARY:Art Workshop: Pine Needle Basket Weaving
DESCRIPTION:The Nest: Pine Needle Basket Weaving with Roberta Condon\n\nSaturday\, October 5\, 2019 | 10am-4pm | Ages 16+\n\n590 Water St\, Prairie du Sac\, WI 53578\n\n\n\nJoin instructor and nationally-recognized basket weaver Roberta Condon for this workshop on weaving a coiled basket out of pine needles. This class is suitable for those with zero basket weaving experience\; Roberta will guide you step by step through the process of making coils\, attaching them using sinew\, transitioning from level to level\, and how to finish the weavings. Students can expect to finish at least one full basket in this class\, perhaps more depending on the speed with which you work.
X-ALT-DESC;FMTTYPE=text/html:<p><strong>The Nest: Pine Needle Basket Weaving with Roberta Condon</strong></p>\n\n<p><strong>Saturday\, October 5\, 2019 | 10</strong><strong>am-4pm | Ages 16+</strong></p>\n\n<p><strong>590 Water St\, Prairie du Sac\, WI 53578</strong><br />\n<br />\n<span style="color:rgb(0\, 0\, 0)\; font-family:arial\,helvetica\,sans-serif">Join instructor and nationally-recognized basket weaver Roberta Condon for this workshop on weaving a coiled basket out of pine needles. This class is suitable for those with zero basket weaving experience\; Roberta will guide you step by step through the process of making coils\, attaching them using sinew\, transitioning from level to level\, and how to finish the weavings. Students can expect to finish at least one full basket in this class\, perhaps more depending on the speed with which you work.</span></p>\n
LOCATION:River Arts Studio 590 Water St Prairie du Sac
UID:e.1184.22365
SEQUENCE:3
DTSTAMP:20260423T095232Z
URL:http://members.saukprairie.com/events/details/art-workshop-pine-needle-basket-weaving-22365
END:VEVENT

END:VCALENDAR
