BEGIN:VCALENDAR
VERSION:2.0
PRODID:-//ChamberMaster//Event Calendar 2.0//EN
METHOD:PUBLISH
X-PUBLISHED-TTL:P3D
REFRESH-INTERVAL:P3D
CALSCALE:GREGORIAN
BEGIN:VEVENT
DTSTART:20191102T140000Z
DTEND:20191102T190000Z
X-MICROSOFT-CDO-ALLDAYEVENT:FALSE
SUMMARY:Art Workshop: Repurposing Jewelry
DESCRIPTION:Repurposing Jewelry with Luann Roberts Smith\n\nSaturday\, November 2\, 2019\, 2019 | 9am-2pm | Ages 14+\n\n590 Water St\, Prairie du Sac\, WI 53578\n\nThis workshop will cover the basics of jewelry making and design. Come and make something new out of jewelry that you already have   whether vintage pieces that are dear to your heart\, or things that have been long abandoned in the bottom of your jewelry box.\n\nStudents will learn to:\n\n  Wire wrap a bead\n\n  Make your own rosary chain\n\n  String a short length of beads\n\n  Punch or drill holes in metal disc for use as a charm or pendant\n\n  Connect/combine the components you create\n\n  Take jewelry apart to repurpose components\n\n  Make simple repairs to slightly damaged pieces\n\n  Arrange different components to create a pleasing and visually balanced design\n\nIn the process of learning the basics\, student will be making the components that will be used to design their finished piece. After basics are covered\, we will focus on design. There are many ways to combine just a few parts and pieces\, and there will be time to work independently as you put the components you have made together to complete a simple necklace or bracelet\, and a pair of earrings.
X-ALT-DESC;FMTTYPE=text/html:<p><strong>Repurposing Jewelry with Luann Roberts Smith</strong></p>\n\n<p><strong>Saturday\, November 2\, 2019\, 2019 | 9am-2</strong><strong>pm | Ages 14+</strong></p>\n\n<p><strong>590 Water St\, Prairie du Sac\, WI 53578</strong></p>\n\n<p>This workshop will cover the basics of jewelry making and design. Come and make something new out of jewelry that you already have &ndash\; whether vintage pieces that are dear to your heart\, or things that have been long abandoned in the bottom of your jewelry box.</p>\n\n<p><strong>Students will learn to:</strong></p>\n\n<p>&ndash\; Wire wrap a bead</p>\n\n<p>&ndash\; Make your own rosary chain</p>\n\n<p>&ndash\; String a short length of beads</p>\n\n<p>&ndash\; Punch or drill holes in metal disc for use as a charm or pendant</p>\n\n<p>&ndash\; Connect/combine the components you create</p>\n\n<p>&ndash\; Take jewelry apart to repurpose components</p>\n\n<p>&ndash\; Make simple repairs to slightly damaged pieces</p>\n\n<p>&ndash\; Arrange different components to create a pleasing and visually balanced design</p>\n\n<p>In the process of learning the basics\, student will be making the components that will be used to design their finished piece. After basics are covered\, we will focus on design. There are many ways to combine just a few parts and pieces\, and there will be time to work independently as you put the components you have made together to complete a simple necklace or bracelet\, and a pair of earrings.</p>\n
LOCATION:River Arts Studio 590 Water St Prairie du Sac
UID:e.1184.22369
SEQUENCE:3
DTSTAMP:20260423T083437Z
URL:http://members.saukprairie.com/events/details/art-workshop-repurposing-jewelry-22369
END:VEVENT

END:VCALENDAR
