BEGIN:VCALENDAR
VERSION:2.0
PRODID:-//ChamberMaster//Event Calendar 2.0//EN
METHOD:PUBLISH
X-PUBLISHED-TTL:P3D
REFRESH-INTERVAL:P3D
CALSCALE:GREGORIAN
BEGIN:VEVENT
DTSTART:20190907T140000Z
DTEND:20190907T190000Z
X-MICROSOFT-CDO-ALLDAYEVENT:FALSE
SUMMARY:Art Workshop: Silver Leaf Pendants
DESCRIPTION:Silver Leaf Pendants with Pam Ryan\n\nSaturday\, September 7\, 2019 | 9am-2pm | Ages 18+\n\n590 Water St\, Prairie du Sac\, WI 53578\n\n\n\nThis class is perfect for the beginner jewelry maker! Instructor Pam Ryan will walk you through how to mold\, shape\, fire\, burnish\, and polish silver from it's raw state into a finished piece of jewelry. Each student will receive a sterling silver chain and will be able to wear the piece home at the end of the class. All materials and tools provided\, no experience necessary!
X-ALT-DESC;FMTTYPE=text/html:<p><strong>Silver Leaf Pendants with Pam Ryan</strong></p>\n\n<p><strong>Saturday\, September 7\, 2019 |&nbsp\;</strong><strong>9am-2pm | Ages 18+</strong></p>\n\n<p><strong>590 Water St\, Prairie du Sac\, WI 53578</strong></p>\n\n<p><br />\n<span style="color:rgb(0\, 0\, 0)\; font-family:arial\,helvetica\,sans-serif">This class is perfect for the beginner jewelry maker! Instructor Pam Ryan will walk you through how to mold\, shape\, fire\, burnish\, and polish silver from it&rsquo\;s raw state into a finished piece of jewelry. Each student will receive a sterling silver chain and will be able to wear the piece home at the end of the class. All materials and tools provided\, no experience necessary!</span></p>\n
LOCATION:River Arts Studio 590 Water St Prairie du Sac
UID:e.1184.22364
SEQUENCE:3
DTSTAMP:20260423T112237Z
URL:http://members.saukprairie.com/events/details/art-workshop-silver-leaf-pendants-22364
END:VEVENT

END:VCALENDAR
