BEGIN:VCALENDAR
VERSION:2.0
PRODID:-//ChamberMaster//Event Calendar 2.0//EN
METHOD:PUBLISH
X-PUBLISHED-TTL:P3D
REFRESH-INTERVAL:P3D
CALSCALE:GREGORIAN
BEGIN:VEVENT
DTSTART:20180913T230000Z
DTEND:20180914T020000Z
X-MICROSOFT-CDO-ALLDAYEVENT:FALSE
SUMMARY:Art Workshop: The Art of the Sketchbook
DESCRIPTION:The Art of the Sketchbook\n\nThursday\, September 13\, 2018 | 6-9pm | 590 Water St\, Prairie du Sac\, WI\n\nEarly Bird registration: $45 through August 30\, $50 after August 30\n\nJoin fine artist Nancy Cox for an immersion in sketchbook art. The evening of inspiration and instruction is suitable to all levels\, from aspiring beginners to advanced artists. Nancy will be discussing the many approaches to sketchbook art   sharing insight from years of keeping sketchbooks and examples from her own collection. The workshop will cover drawing techniques and time for making sketchbook art of your own.\n\n\n\nSupplies to Bring: A sketchbook for drawing (7  x 10  or larger is suitable). Please bring soft and hard pencils and kneaded eraser. You are welcome to bring pens\, colored pencils\, markers or any other drawing tools of your choice. A watercolor sketchbook\, watercolor brushes\, watercolor paint and sponge etc. would be suitable as well.
X-ALT-DESC;FMTTYPE=text/html:<p><strong>The Art of the Sketchbook</strong></p>\n\n<p><strong>Thursday\, September 13\, 2018 | 6-9pm | 590 Water St\, Prairie du Sac\, WI</strong></p>\n\n<p><strong>Early Bird registration: $45 through August 30\, $50 after August 30</strong></p>\n\n<div>Join fine artist&nbsp\;<a href="http://nancycoxartwork.com/" rel="noopener" style="margin: 0px\; padding: 0px\; color: rgb(193\, 193\, 204)\;" target="_blank">Nancy Cox</a>&nbsp\;for an immersion in sketchbook art. The evening of inspiration and instruction is suitable to all levels\,&nbsp\;from aspiring&nbsp\;beginners&nbsp\;to advanced artists.&nbsp\;Nancy&nbsp\;will be discussing the&nbsp\;many&nbsp\;approaches to sketchbook art &ndash\; sharing insight from years of keeping sketchbooks and examples from her own collection. The workshop will&nbsp\;cover&nbsp\;drawing&nbsp\;techniques and time for making sketchbook art of your own.</div>\n\n<div><br />\n<strong>Supplies to Bring:</strong>&nbsp\;A sketchbook for drawing (7&Prime\; x 10&Prime\; or larger is suitable). Please bring soft and hard pencils and kneaded eraser.&nbsp\;You are welcome to bring pens\, colored pencils\, markers or any other drawing tools of your choice. A watercolor sketchbook\, watercolor brushes\, watercolor paint and sponge etc. would be suitable as well.</div>\n
LOCATION:River Arts on Water Gallery 590 Water St Prairie du Sac\, WI 53578
UID:e.1184.18171
SEQUENCE:3
DTSTAMP:20260424T065640Z
URL:http://members.saukprairie.com/events/details/art-workshop-the-art-of-the-sketchbook-18171
END:VEVENT

END:VCALENDAR
