BEGIN:VCALENDAR
VERSION:2.0
PRODID:-//ChamberMaster//Event Calendar 2.0//EN
METHOD:PUBLISH
X-PUBLISHED-TTL:P3D
REFRESH-INTERVAL:P3D
CALSCALE:GREGORIAN
BEGIN:VEVENT
DTSTART:20200425T140000Z
DTEND:20200425T173000Z
X-MICROSOFT-CDO-ALLDAYEVENT:FALSE
SUMMARY:Art Workshop: Weaving
DESCRIPTION:Weaving Perspectives: Yarn and Textiles with Maday Delgado\n\nSaturday\, April 25\, 2020 | 9am-12:30pm | Ages 15+\n\n590 Water St\, Prairie du Sac\, WI 53578\n\nClass Fee: $125/person *includes a tabletop loom that students keep after the class\n\n\n\nWeaving as a sustainable practice can be rewarding and fun. It also connects us to the generations that came before us and a craft that endures the test of time. We will explore weaving with traditional and non-traditional textiles and textures beyond the use of yarn\, color play and most importantly\, the meditative aspect of this timeless art. You will be rewarded with a fabric swatch completed entirely by you\, using a loom and your hands. All supplies will be provided for your convenience during class and you will have a loom and some yarn to continue your work at home as well.
X-ALT-DESC;FMTTYPE=text/html:<p><strong>Weaving Perspectives: Yarn and Textiles with Maday Delgado</strong></p>\n\n<p><strong>Saturday\, April 25\, 2020 | 9am-12:30pm | Ages 15+</strong></p>\n\n<p><strong>590 Water St\, Prairie du Sac\, WI 53578</strong></p>\n\n<p><strong>Class Fee: $125/person *includes a tabletop loom that students keep after the class</strong><br />\n<br />\n<span style="color:rgb(0\, 0\, 0)\; font-family:arial\,helvetica\,sans-serif">Weaving as a sustainable practice can be rewarding and fun. It also connects us to the generations that came before us and a craft that endures the test of time. We will explore weaving with traditional and non-traditional textiles and textures beyond the use of yarn\, color play and most importantly\, the meditative aspect of this timeless art. You will be rewarded with a fabric swatch completed entirely by you\, using a loom and your hands. All supplies will be provided for your convenience during class and you will have a loom and some yarn to continue your work at home as well.</span></p>\n
LOCATION:590 Water St\, Prairie du Sac\, WI 53578
UID:e.1184.24075
SEQUENCE:3
DTSTAMP:20260423T011811Z
URL:http://members.saukprairie.com/events/details/art-workshop-weaving-24075
END:VEVENT

END:VCALENDAR
