BEGIN:VCALENDAR
VERSION:2.0
PRODID:-//ChamberMaster//Event Calendar 2.0//EN
METHOD:PUBLISH
X-PUBLISHED-TTL:P3D
REFRESH-INTERVAL:P3D
CALSCALE:GREGORIAN
BEGIN:VEVENT
DTSTART:20240224T150000Z
DTEND:20240224T210000Z
X-MICROSOFT-CDO-ALLDAYEVENT:FALSE
SUMMARY:Aspiring Knitters! Learn to Knit with Mother of Purl at River Arts Gallery on Water
DESCRIPTION:Aspiring Knitters!  Learn to Knit with Mother of Purl\nAspiring Knitters! Learn to Knit! In this class\, you will make a cowl and practice your stitches.  The focus of this class will be for never before knitters. if you have always wanted to learn how to knit and are not sure how to get started\, this class is for you!\n\n \nStudents will learn the fundamentals of hand knitting. You will be personally walked through the process of knitting and learn how to:\n\n-Cast on\,\n\n-knit\, and purl\,\n\n-check your gauge\,\n\n-bind off your stitches.\n\nList of materials needed for class:\n\n16 inch circular needles. or straight needles. (size us 5-7)\n\nAran or bulky weight yarn (at least 200 yards)\n\nBring your own or borrow:\n\nbasic knitting notions. (scissors\, tapestry needle)\n\nmeasuring tape
X-ALT-DESC;FMTTYPE=text/html:<p><strong>Aspiring Knitters!&nbsp\; Learn to Knit with Mother of Purl</strong></p>\n<span style="color:rgb(0\, 0\, 0)\; font-family:arial\,helvetica\,sans-serif">Aspiring Knitters! Learn to Knit! In this class\, you will make a cowl and practice your stitches.&nbsp\; The focus of this class will be for never before knitters. if you have always wanted to learn how to knit and are not sure how to get started\, this class is for you!</span><br />\n&nbsp\;\n<p><strong>Students will learn the fundamentals of hand knitting. You will be personally walked through the process of knitting and learn how to:</strong><br />\n-Cast on\,<br />\n-knit\, and purl\,<br />\n-check your gauge\,<br />\n-bind off your stitches.</p>\n\n<p><strong>List of materials needed for class:</strong><br />\n16 inch circular needles. or straight needles. (size us 5-7)<br />\nAran or bulky weight yarn (at least 200 yards)</p>\n\n<p><strong>Bring your own or borrow:</strong></p>\n\n<p>basic knitting notions. (scissors\, tapestry needle)<br />\nmeasuring tape</p>\n
LOCATION:River Arts Gallery on Water
UID:e.1184.31490
SEQUENCE:3
DTSTAMP:20260420T003839Z
URL:http://members.saukprairie.com/events/details/aspiring-knitters-learn-to-knit-with-mother-of-purl-at-river-arts-gallery-on-water-31490
END:VEVENT

END:VCALENDAR
