BEGIN:VCALENDAR
VERSION:2.0
PRODID:-//ChamberMaster//Event Calendar 2.0//EN
METHOD:PUBLISH
X-PUBLISHED-TTL:P3D
REFRESH-INTERVAL:P3D
CALSCALE:GREGORIAN
BEGIN:VEVENT
DTSTART:20160929T131500Z
DTEND:20160930T023000Z
X-MICROSOFT-CDO-ALLDAYEVENT:FALSE
SUMMARY:ATTRACT & RETAIN YOUR EMPLOYEES WITH TOTAL REWARDS STATEMENTS
DESCRIPTION:Are you concerned about attracting and retaining talent in this competitive labor market?  \n\n  Is the problem with your total rewards program\, or is it really with how you are communicating the total rewards program to candidates/employees?\n\n\n\nJoin us as industry experts discuss the value of total rewards statements\, share tips on how to \n\ncreate a total rewards statement for your organization\, using tools/resources that you already have today.  This training will give you the skills you need  to design and administer a total \n\nrewards statement that will better position your organization to attract and retain quality talent.  \n\n\n\nWhen: September 29\n\nWhere: Culver Franchising System\, Inc. (1240 Water St.\, PDS)\n\nTime: 8:15-9:30am
X-ALT-DESC;FMTTYPE=text/html:<div style="color: gray\;">&bull\; Are you concerned about attracting and retaining talent in this competitive labor market? &nbsp\;<br />\n&bull\; Is the problem with your total rewards program\, or is it really with how you are communicating&nbsp\;the total rewards program to candidates/employees?<br />\n<br />\nJoin us as industry experts discuss the value of total rewards statements\, share tips on how to&nbsp\;<br />\ncreate a total rewards statement for your organization\, using tools/resources that you already have today. &nbsp\;This training will give you the skills you need &nbsp\;to design and administer a total&nbsp\;<br />\nrewards statement that will better position your organization to attract and retain quality talent. &nbsp\;<br />\n<br />\nWhen: September 29<br />\nWhere: Culver Franchising System\, Inc. (1240 Water St.\, PDS)<br />\nTime: 8:15-9:30am</div>\n
LOCATION:Culver Franchising System\, Inc. (1240 Water St.\, PDS)
UID:e.1184.9341
SEQUENCE:3
DTSTAMP:20260425T192919Z
URL:http://members.saukprairie.com/events/details/attract-retain-your-employees-with-total-rewards-statements-9341
END:VEVENT

END:VCALENDAR
