BEGIN:VCALENDAR
VERSION:2.0
PRODID:-//ChamberMaster//Event Calendar 2.0//EN
METHOD:PUBLISH
X-PUBLISHED-TTL:P3D
REFRESH-INTERVAL:P3D
CALSCALE:GREGORIAN
BEGIN:VEVENT
DTSTART:20170903T220000Z
DTEND:20170904T010000Z
X-MICROSOFT-CDO-ALLDAYEVENT:FALSE
SUMMARY:Auction
DESCRIPTION:Sunday\, September 3rd\n\nCrystal Lake RV Campground\n\nN550 Gannon Rd.\, Lodi\, WI\n\n\n\nFollow Signs to Lower Bar\n\nSign up starts at 4pm (cash only)\n\nAll proceeds will go towards controlling the level of Crystal Lake\n\n\n\nItems include:\n\n	1/2 hr. Sea Plane Ride for 3 - Crystal Lake RV\n	4 Nights in cabin at Smokey Hollow\n	36" round metal/brick outdoor fire ring by Buchanan's Mowing\n	Weekend camping cabin at Bonanza Campground\, Wi Dells\n\nOther donations from many others below some are listed\n\n\n	Culvers\n	Treinan Farm\n	Wood BBQ\n	Sauk Prairie Liquor\n	Riviera Bowl\n	Salons for You\n	Ace Sauk Prairie\n	Wyttenbach Meats
X-ALT-DESC;FMTTYPE=text/html:Sunday\, September 3rd<br />\nCrystal Lake RV Campground<br />\nN550 Gannon Rd.\, Lodi\, WI<br />\n<br />\nFollow Signs to Lower Bar<br />\nSign up starts at 4pm (cash only)<br />\nAll proceeds will go towards controlling the level of Crystal Lake<br />\n<br />\nItems include:\n<ul>\n	<li>1/2 hr. Sea Plane Ride for 3 - Crystal Lake RV</li>\n	<li>4 Nights in cabin at Smokey Hollow</li>\n	<li>36&quot\; round metal/brick outdoor fire ring by Buchanan&#39\;s Mowing</li>\n	<li>Weekend camping cabin at Bonanza Campground\, Wi Dells</li>\n</ul>\nOther donations from many others below some are listed\n\n<ul>\n	<li>Culvers</li>\n	<li>Treinan Farm</li>\n	<li>Wood BBQ</li>\n	<li>Sauk Prairie Liquor</li>\n	<li>Riviera Bowl</li>\n	<li>Salons for You</li>\n	<li>Ace Sauk Prairie</li>\n	<li>Wyttenbach Meats</li>\n</ul>\n
LOCATION:
UID:e.1184.12895
SEQUENCE:3
DTSTAMP:20260425T014316Z
URL:http://members.saukprairie.com/events/details/auction-12895
END:VEVENT

END:VCALENDAR
