BEGIN:VCALENDAR
VERSION:2.0
PRODID:-//ChamberMaster//Event Calendar 2.0//EN
METHOD:PUBLISH
X-PUBLISHED-TTL:P3D
REFRESH-INTERVAL:P3D
CALSCALE:GREGORIAN
BEGIN:VEVENT
DTSTART:20221116T003000Z
DTEND:20221116T013000Z
X-MICROSOFT-CDO-ALLDAYEVENT:FALSE
SUMMARY:Author E. Michael Brehm
DESCRIPTION:Local author\, and Sauk Prairie High School teacher\, E. Michael Brehm will speak at the Ruth Culver Community Library Tuesday\, November 15 at 6:30pm. His book\, The Historian's Lament\, is the first in the The Ellarian Cycle fantasy series. Thank you to the Friends of the Ruth Culver Community Library for sponsoring this event.
X-ALT-DESC;FMTTYPE=text/html:<span style="font-family:roboto\,sans-serif\; font-size:16px">Local author\, and Sauk Prairie High School teacher\, E. Michael Brehm will speak at the Ruth Culver Community Library Tuesday\, November 15 at 6:30pm. His book\,&nbsp\;<em>The Historian&#39\;s Lament</em>\,&nbsp\;is the first in the <em>The Ellarian Cycle</em>&nbsp\;fantasy series. Thank you to the Friends of the Ruth Culver Community Library for sponsoring this event.</span>
LOCATION:Ruth Culver Community Library 540 Water Street\, Prairie du Sac
UID:e.1184.28737
SEQUENCE:3
DTSTAMP:20260421T032207Z
URL:http://members.saukprairie.com/events/details/author-e-michael-brehm-28737
END:VEVENT

END:VCALENDAR
