BEGIN:VCALENDAR
VERSION:2.0
PRODID:-//ChamberMaster//Event Calendar 2.0//EN
METHOD:PUBLISH
X-PUBLISHED-TTL:P3D
REFRESH-INTERVAL:P3D
CALSCALE:GREGORIAN
BEGIN:VEVENT
DTSTART:20160425T213000Z
DTEND:20160425T223000Z
X-MICROSOFT-CDO-ALLDAYEVENT:FALSE
SUMMARY:Author Katy Jo Turner & a Live Owl!
DESCRIPTION:Meet author Katy Jo Turner as she shares her new book "Who Cooks for You?" Books will be available for sale before and after the presentation and she will sign them for you! Jerry Bethke of Soaring Eagle Wildlife Rehabilitation Center will also be on hand with a LIVE owl! Contact Beth at 643-8318 with questions.
X-ALT-DESC;FMTTYPE=text/html:Meet author Katy Jo Turner as she shares her new book &quot\;Who Cooks for You?&quot\; Books will be available for sale before and after the presentation and she will sign them for you! Jerry Bethke of Soaring Eagle Wildlife Rehabilitation Center will also be on hand with a LIVE owl! Contact Beth at 643-8318 with questions.
LOCATION:Ruth Culver Community Library 540 Water Street\, Prairie du Sac
UID:e.1184.8444
SEQUENCE:3
DTSTAMP:20260426T033446Z
URL:http://members.saukprairie.com/events/details/author-katy-jo-turner-a-live-owl-04-25-2016-8444
END:VEVENT

END:VCALENDAR
