BEGIN:VCALENDAR
VERSION:2.0
PRODID:-//ChamberMaster//Event Calendar 2.0//EN
METHOD:PUBLISH
X-PUBLISHED-TTL:P3D
REFRESH-INTERVAL:P3D
CALSCALE:GREGORIAN
BEGIN:VEVENT
DTSTART:20200602T233000Z
DTEND:20200603T003000Z
X-MICROSOFT-CDO-ALLDAYEVENT:FALSE
SUMMARY:Author Mike O'Connor
DESCRIPTION:Did you know the nation's top fighter pilot of World War II was from Wisconsin?  Mike O'Connor\, author of the book Ace of Aces\, will discuss the life of United States Army Air Forces pilot Major Richard Bong at the Ruth Culver Community Library Tuesday\, June 2 at 6:30pm.  Major Bong was credited with shooting down 40 Japanese aircraft and earned the Congressional Medal of Honor and the Distinguished Service Cross and was one of the most decorated pilots of the war. The author will have books for purchase after the presentation.
X-ALT-DESC;FMTTYPE=text/html:Did you know the nation&rsquo\;s top fighter pilot of World War II was from Wisconsin?&nbsp\; Mike O&rsquo\;Connor\, author of the book <em>Ace of Aces\,</em> will discuss the life of United States Army Air Forces pilot Major Richard Bong at the Ruth Culver Community Library Tuesday\, June 2 at 6:30pm.&nbsp\; Major Bong was credited with shooting down 40 Japanese aircraft and earned the Congressional Medal of Honor and the Distinguished Service Cross and was one of the most decorated pilots of the war. The author will have books for purchase after the presentation.
LOCATION:Ruth Culver Community Library 540 Water Street\, Prairie du Sac
UID:e.1184.24129
SEQUENCE:3
DTSTAMP:20260422T224504Z
URL:http://members.saukprairie.com/events/details/author-mike-o-connor-24129
END:VEVENT

END:VCALENDAR
