BEGIN:VCALENDAR
VERSION:2.0
PRODID:-//ChamberMaster//Event Calendar 2.0//EN
METHOD:PUBLISH
X-PUBLISHED-TTL:P3D
REFRESH-INTERVAL:P3D
CALSCALE:GREGORIAN
BEGIN:VEVENT
DTSTART:20171016T233000Z
DTEND:20171017T003000Z
X-MICROSOFT-CDO-ALLDAYEVENT:FALSE
SUMMARY:Author Talk: Christina Ward
DESCRIPTION:Fresh off of her national book tour Milwaukee-native and Master Food Preserver Christina Ward joins us for a night of culinary inquiry. Christina will be offering helpful advice and sharing insightful stories from her many experiences. Be sure to place your holds on on her new book Preservation: The Art and Science of Canning\, Fermentation and Dehydration today!\n\nTo learn more about her new book\, click here: http://feralhouse.com/preservation/\n\nWant to take a class with Christina Ward? Sign up for her classes at Fermentation Fest here: http://fermentationfest.com/events/category/christina-ward\n\n \n\n\nIf you are in need of accommodations\, the library would like to help! Please contact us at 608-643-8346 as soon as possible with the assistance you will need. The basement is accessible via a ramp by our rear parking lot. This door will be unlocked at least 10 minutes before the program begins.\n\n\n\nThis project is funded in part by a Healthy Life Initiative Grant from the Sauk Prairie Healthcare Foundation
X-ALT-DESC;FMTTYPE=text/html:<p>Fresh off of her national book tour Milwaukee-native and Master Food Preserver Christina Ward joins us for a night of culinary inquiry. Christina will be offering helpful advice and sharing insightful stories from her many experiences. Be sure to place your holds on on her new book&nbsp\;<em>Preservation: The Art and Science of Canning</em>\,&nbsp\;<em>Fermentation and Dehydration&nbsp\;</em>today!</p>\n\n<p>To learn more about her new book\, click here:&nbsp\;http://feralhouse.com/preservation/</p>\n\n<p>Want to take a class with Christina Ward? Sign up for her classes at Fermentation Fest here:&nbsp\;http://fermentationfest.com/events/category/christina-ward<br />\n&nbsp\;</p>\n\n<hr />\n<p>If you are in need of accommodations\, the library would like to help! Please contact us at 608-643-8346 as soon as possible with the assistance you will need. The basement is accessible via a ramp by our rear parking lot. This door will be unlocked at least 10 minutes before the program begins.<br />\n<br />\nThis project is funded in part&nbsp\;by a Healthy Life Initiative Grant from the Sauk Prairie&nbsp\;Healthcare Foundation</p>\n\n<p>&nbsp\;</p>\n
LOCATION:515 Water Street Sauk City\, WI 53583 (608) 643-8346
UID:e.1184.12948
SEQUENCE:3
DTSTAMP:20260424T221846Z
URL:http://members.saukprairie.com/events/details/author-talk-christina-ward-12948
END:VEVENT

END:VCALENDAR
