BEGIN:VCALENDAR
VERSION:2.0
PRODID:-//ChamberMaster//Event Calendar 2.0//EN
METHOD:PUBLISH
X-PUBLISHED-TTL:P3D
REFRESH-INTERVAL:P3D
CALSCALE:GREGORIAN
BEGIN:VEVENT
DTSTART:20160816T233000Z
DTEND:20160817T013000Z
X-MICROSOFT-CDO-ALLDAYEVENT:FALSE
SUMMARY:Author Visit
DESCRIPTION:Author Elise Moser will discuss her book What Milly Did\, the inspiring true story of Milly Zantow\, the Sauk City resident who created a global recycling standard.\n\n\n\nAll ages welcome\n\n\n\nCopies of the book will be available for purchase.\n\n\n\nIf you need accommodations to attend this program please call 643-8346 two weeks in advance.
X-ALT-DESC;FMTTYPE=text/html:Author Elise Moser will discuss her book What Milly Did\, the inspiring true story of Milly&nbsp\;Zantow\, the Sauk City resident who created a global recycling standard.<br />\n<br />\nAll ages welcome<br />\n<br />\nCopies of the book will be available for purchase.<br />\n<br />\nIf you need accommodations to attend this program please call 643-8346 two weeks in advance.
LOCATION:Sauk City Library 515 Water Street Sauk City
UID:e.1184.8881
SEQUENCE:3
DTSTAMP:20260425T224227Z
URL:http://members.saukprairie.com/events/details/author-visit-08-16-2016-8881
END:VEVENT

END:VCALENDAR
