BEGIN:VCALENDAR
VERSION:2.0
PRODID:-//ChamberMaster//Event Calendar 2.0//EN
METHOD:PUBLISH
X-PUBLISHED-TTL:P3D
REFRESH-INTERVAL:P3D
CALSCALE:GREGORIAN
BEGIN:VEVENT
DTSTART:20220924T140000Z
DTEND:20220924T210000Z
X-MICROSOFT-CDO-ALLDAYEVENT:FALSE
SUMMARY:Autumn Adornments: Handmade Leaf Pins with Cynthia Quinn
DESCRIPTION:Spend a fun day learning to make unique pins celebrating autumn leaves. Bring a sharp scissors\, pencil and paper to class. Cynde will provide supplies to get you started. We will learn two embroidery stitches\, plus how to sew on beads. An assortment of embroidery floss\, naturally dyed wool and beads will be available to customize your design. If you have special floss or beads you'd like to use bring them to class. Once you get started\, make more on your own for gifts. Some sewing experience a plus.
X-ALT-DESC;FMTTYPE=text/html:<span style="color:rgb(0\, 0\, 0)\; font-family:arial\,helvetica\,sans-serif">Spend a fun day learning to make unique pins celebrating autumn leaves. Bring a sharp scissors\, pencil and paper to class. Cynde will provide supplies to get you started. We will learn two embroidery stitches\, plus how to sew on beads. An assortment of embroidery floss\, naturally dyed wool and beads will be available to customize your design. If you have special floss or beads you&rsquo\;d like to use bring them to class. Once you get started\, make more on your own for gifts. Some sewing experience a plus.</span>
LOCATION:590 Water St\, Prairie Du Sac\, WI 53578
UID:e.1184.28197
SEQUENCE:3
DTSTAMP:20260421T061835Z
URL:http://members.saukprairie.com/events/details/autumn-adornments-handmade-leaf-pins-with-cynthia-quinn-28197
END:VEVENT

END:VCALENDAR
