BEGIN:VCALENDAR
VERSION:2.0
PRODID:-//ChamberMaster//Event Calendar 2.0//EN
METHOD:PUBLISH
X-PUBLISHED-TTL:P3D
REFRESH-INTERVAL:P3D
CALSCALE:GREGORIAN
BEGIN:VEVENT
DTSTART:20191005T140000Z
DTEND:20191005T160000Z
X-MICROSOFT-CDO-ALLDAYEVENT:FALSE
SUMMARY:Baby Connection
DESCRIPTION:Welcoming a new baby can be a celebrated relief\, but it also marks a period of physical recovery. Baby Connection will help you understand post partum recovery with guest Physical Therapist Becki Braund on October 5 at Ruth Culver Community Library. Becki will cover a range of recovery topics such as pelvic floor muscle strengthening and control\, core strengthening and proper body mechanics for pelvic girdle pain\, positioning for nursing\, urinary changes\, and returning to activity and exercise. This is a family-friendly event\, so moms are welcome to bring their babies' older siblings. For more information\, visit www.saukprairiehealthcare.org/childbirthclasses or call 608-643-7223.
X-ALT-DESC;FMTTYPE=text/html:Welcoming a new baby can be a celebrated relief\, but it also marks a period of physical recovery. Baby Connection will help you understand post partum recovery with guest Physical Therapist Becki Braund on October 5 at Ruth Culver Community Library. Becki will cover a range of recovery topics such as pelvic floor muscle strengthening and control\, core strengthening and proper body mechanics for pelvic girdle pain\, positioning for nursing\, urinary changes\, and returning to activity and exercise. This is a family-friendly event\, so moms are welcome to bring their babies&rsquo\; older siblings. For more information\, visit www.saukprairiehealthcare.org/childbirthclasses or call 608-643-7223.
LOCATION:Ruth Culver Community Library 540 Water Street Prairie du Sac\, WI 53578
UID:e.1184.23168
SEQUENCE:3
DTSTAMP:20260423T095140Z
URL:http://members.saukprairie.com/events/details/baby-connection-23168
END:VEVENT

END:VCALENDAR
