BEGIN:VCALENDAR
VERSION:2.0
PRODID:-//ChamberMaster//Event Calendar 2.0//EN
METHOD:PUBLISH
X-PUBLISHED-TTL:P3D
REFRESH-INTERVAL:P3D
CALSCALE:GREGORIAN
BEGIN:VEVENT
DTSTART:20190601T140000Z
DTEND:20190601T160000Z
X-MICROSOFT-CDO-ALLDAYEVENT:FALSE
SUMMARY:Baby Connection Clothing Swap
DESCRIPTION:Sauk Prairie Healthcare Baby Connection is hosting a clothing swap at Ruth Culver Library on Saturday\, June 1\, from 9 a.m. to 11 a.m. Bring your gently used and laundered baby\, kid\, maternity\, and nursing clothing and SWAP IT for clothing you or your family could use. Please note: clothing will only be accepted the day of the Swap\; DO NOT attempt to drop it off ahead of time. Families\, pregnant women\, and even hopeful future parents welcome. All clothing that doesn't go home with someone will be donated. Baby Connection is a free\, drop-in\, family friendly group run by Sauk Prairie Healthcare's Lactation Counselors\, designed especially to help moms reach their breastfeeding goals.
X-ALT-DESC;FMTTYPE=text/html:Sauk Prairie Healthcare Baby Connection is hosting a clothing swap at Ruth Culver Library on Saturday\, June 1\, from 9 a.m. to 11 a.m. Bring your gently used and laundered baby\, kid\, maternity\, and nursing clothing and SWAP IT for clothing you or your family could use. Please note: clothing will only be accepted the day of the Swap\; DO NOT attempt to drop it off ahead of time. Families\, pregnant women\, and even hopeful future parents welcome. All clothing that doesn&#39\;t go home with someone will be donated. Baby Connection is a free\, drop-in\, family friendly group run by Sauk Prairie Healthcare&#39\;s Lactation Counselors\, designed especially to help moms reach their breastfeeding goals.
LOCATION:Ruth Culver LIbrary 540 Water Street Prairie Du Sac\, WI\, 53578
UID:e.1184.22242
SEQUENCE:3
DTSTAMP:20260423T153807Z
URL:http://members.saukprairie.com/events/details/baby-connection-clothing-swap-22242
END:VEVENT

END:VCALENDAR
