BEGIN:VCALENDAR
VERSION:2.0
PRODID:-//ChamberMaster//Event Calendar 2.0//EN
METHOD:PUBLISH
X-PUBLISHED-TTL:P3D
REFRESH-INTERVAL:P3D
CALSCALE:GREGORIAN
BEGIN:VEVENT
DTSTART:20160831T230000Z
DTEND:20160901T010000Z
X-MICROSOFT-CDO-ALLDAYEVENT:FALSE
SUMMARY:Baby CPR\, Choking and Pediatric First Aid Class
DESCRIPTION:Because you want to take the best care of your baby\, register for this FREE Baby CPR\, choking and pediatric first aid class by a certified trainer from Pulse Check Plus. Space is limited\, so please register at the Ruth Culver Community Library. Contact Beth at 643-8318 with questions.
X-ALT-DESC;FMTTYPE=text/html:Because you want to take the best care of your baby\, register for this FREE Baby CPR\, choking and pediatric first aid class by a certified trainer from Pulse Check Plus. Space is limited\, so please register at the Ruth Culver Community Library. Contact Beth at 643-8318 with questions.
LOCATION:Ruth Culver Community Library 540 Water Street\, Prairie du Sac
UID:e.1184.8876
SEQUENCE:3
DTSTAMP:20260425T211415Z
URL:http://members.saukprairie.com/events/details/baby-cpr-choking-and-pediatric-first-aid-class-08-31-2016-8876
END:VEVENT

END:VCALENDAR
