BEGIN:VCALENDAR
VERSION:2.0
PRODID:-//ChamberMaster//Event Calendar 2.0//EN
METHOD:PUBLISH
X-PUBLISHED-TTL:P3D
REFRESH-INTERVAL:P3D
CALSCALE:GREGORIAN
BEGIN:VEVENT
DTSTART;VALUE=DATE:20171115
DTEND;VALUE=DATE:20171216
TRANSP:TRANSPARENT
X-MICROSOFT-CDO-ALLDAYEVENT:TRUE
SUMMARY:"Baby It's Cold Out Outside" Winter Hats\, Mittens\, Gloves\, Scarves\, Snowboots & Snowpants 2nd Annual Collection
DESCRIPTION:Drop off new or gently used (clean) winter fleece hats\, waterproof mittens\, fleece gloves & scarves\, child size snowboots and snowpants to Edward Jones/Joe LaCour's Office 811 Phillips Blvd (Eagle Plaza - by the Pizza Hut) Sauk City\, WI by December 15\, 2017 and the Sauk Prairie School District will get them to the kids and adults in our community that need them.
X-ALT-DESC;FMTTYPE=text/html:<div><span style="font-size:14px"><span style="font-family:comic sans ms">Drop off new or gently used (clean) winter fleece hats\, waterproof mittens\, fleece gloves &amp\; scarves\, child size&nbsp\;snowboots and snowpants&nbsp\;to Edward Jones/Joe LaCour&#39\;s Office <strong>811 Phillips Blvd (</strong>Eagle Plaza - by the Pizza Hut) Sauk City\, WI by December 15\, 2017 and the Sauk Prairie&nbsp\;School District&nbsp\;will get them to the kids and adults in our community that need them.</span></span></div>\n
LOCATION:Edward Jones Joe LaCour - Financial Advisor 811 Phillips Blvd Sauk City\, WI 53583 Make Sense by Giving Back!
UID:e.1184.14508
SEQUENCE:3
DTSTAMP:20260424T193545Z
URL:http://members.saukprairie.com/events/details/baby-it-s-cold-out-outside-winter-hats-mittens-gloves-scarves-snowboots-snowpants-2nd-annual-collection-14508
END:VEVENT

END:VCALENDAR
