BEGIN:VCALENDAR
VERSION:2.0
PRODID:-//ChamberMaster//Event Calendar 2.0//EN
METHOD:PUBLISH
X-PUBLISHED-TTL:P3D
REFRESH-INTERVAL:P3D
CALSCALE:GREGORIAN
BEGIN:VEVENT
DTSTART;VALUE=DATE:20220814
DTEND;VALUE=DATE:20220815
TRANSP:TRANSPARENT
X-MICROSOFT-CDO-ALLDAYEVENT:TRUE
SUMMARY:Back to Church
DESCRIPTION:Come and worship with us!\n\n\n\nAll are welcome. If you are looking for a Home Church Christian Education Program or are already a member\, come and join us for fellowship. Bring a friend or another family and explore what the church has to offer! Bingo\, Scavenger Hunt\, and snacks will be provided after the service.
X-ALT-DESC;FMTTYPE=text/html:Come and worship with us!<br />\n<br />\nAll are welcome. If you are looking for a Home Church Christian Education Program or are already a member\, come and join us for fellowship. Bring a friend or another family and explore what the church has to offer! Bingo\, Scavenger Hunt\, and snacks will be provided after the service.
LOCATION:First United Church of Christ: 504 Washington Ave\, Sauk City
UID:e.1184.28247
SEQUENCE:3
DTSTAMP:20260421T073455Z
URL:http://members.saukprairie.com/events/details/back-to-church-28247
END:VEVENT

END:VCALENDAR
