BEGIN:VCALENDAR
VERSION:2.0
PRODID:-//ChamberMaster//Event Calendar 2.0//EN
METHOD:PUBLISH
X-PUBLISHED-TTL:P3D
REFRESH-INTERVAL:P3D
CALSCALE:GREGORIAN
BEGIN:VEVENT
DTSTART;VALUE=DATE:20221208
DTEND;VALUE=DATE:20221209
TRANSP:TRANSPARENT
X-MICROSOFT-CDO-ALLDAYEVENT:TRUE
SUMMARY:BADGER HISTORY GROUP TALK
DESCRIPTION:The History and Development of South-Central Wisconsin's Railroads\, with Notes on Badger Plant Railways by Frank Wolf\n\n\n\nPresented by Scott Lothes.\n\nRailroads played a tremendous role in building Madison and south-central Wisconsin\, and they continue to play a critical role in the regional economy. Nine different railroad lines radiated out of Madison\, seven of which remain today. This presentation looks at how they came to be\, how they have been used\, and how and why they have changed over the past 165 years. Illustrations come from the Wisconsin Historical Society and the archives of the Center for Railroad Photography & Art (CRP&A)\, including the collection of CRP&A founder John Gruber\, who grew up in Prairie du Sac and lived in Madison. We will also hear from stalwart Badger historian Frank Wolf\, who will discuss standard and narrow gauge railroads at the Plant\, with the help of archival photos.\n\n\n\nScott Lothes is president and executive director of the Madison-based Center for Railroad Photography & Art (www.railphoto-art.org) and serves as editor of its quarterly journal\, Railroad Heritage. His writing and photographs appear frequently in Trains\, Classic Trains\, Railfan & Railroad\, and he has contributed to seven books of railroad photography.\n\n\n\nFrank Wolf is a 56-year veteran of the energetic material industry. He was a chemical engineer and Chief Modernization Engineer at Badger for 31 years.\n\n\n\nThis is an in-person and Zoom event. In the museum masks are optional. Seating is limited for museum and zoom so registration is recommended. Click here for the zoom link and to register\, or call the museum at 608-448-0244 and please specify for museum or zoom\, your name\, and number in your group.
X-ALT-DESC;FMTTYPE=text/html:<strong>The History and Development of South-Central Wisconsin&rsquo\;s Railroads\, with Notes on Badger Plant Railways by Frank Wolf</strong><br />\n<br />\nPresented by&nbsp\;<strong>Scott Lothes.</strong><br />\nRailroads played a tremendous role in building Madison and south-central Wisconsin\, and they continue to play a critical role in the regional economy. Nine different railroad lines radiated out of Madison\, seven of which remain today. This presentation looks at how they came to be\, how they have been used\, and how and why they have changed over the past 165 years. Illustrations come from the Wisconsin Historical Society and the archives of the Center for Railroad Photography &amp\; Art (CRP&amp\;A)\, including the collection of CRP&amp\;A founder John Gruber\, who grew up in Prairie du Sac and lived in Madison. We will also hear from stalwart Badger historian Frank Wolf\, who will discuss standard and narrow gauge railroads at the Plant\, with the help of archival photos.<br />\n<br />\n<span style="font-size:large\;">Scott Lothes is president and executive director of the Madison-based Center for Railroad Photography &amp\; Art (<a href="http://www.railphoto-art.org">www.railphoto-art.org</a>) and serves as editor of its quarterly journal\,&nbsp\;</span><span style="font-style:italic\;"><span style="font-size:large\;">Railroad Heritage</span></span><span style="font-size:large\;">. His writing and photographs appear frequently in&nbsp\;</span><span style="font-style:italic\;"><span style="font-size:large\;">Trains</span></span><span style="font-size:large\;">\,&nbsp\;</span><span style="font-style:italic\;"><span style="font-size:large\;">Classic Trains</span></span><span style="font-size:large\;">\,&nbsp\;</span><span style="font-style:italic\;"><span style="font-size:large\;">Railfan</span></span><span style="font-size:large\;">&nbsp\;&amp\;&nbsp\;</span><span style="font-style:italic\;"><span style="font-size:large\;">Railroad</span></span><span style="font-size:large\;">\, and he has contributed to seven books of railroad photography.</span><br />\n<br />\nFrank Wolf is a 56-year veteran of the energetic material industry. He was a chemical engineer and Chief Modernization Engineer at Badger for 31 years.<br />\n<br />\nThis is an in-person and Zoom event. In the museum masks are optional. Seating is limited for museum and zoom so registration is recommended.&nbsp\;<a href="http://www.badgerordnancehistory.org/Zoom%20Lecture_12-8-22.pdf">Click here</a>&nbsp\;for the zoom link and to register\, or call the museum at 608-448-0244 and please specify for museum or zoom\, your name\, and number in your group.
LOCATION:at the Museum of Badger Army Ammunition off Hwy 12 and on Zoom
UID:e.1184.29279
SEQUENCE:3
DTSTAMP:20260421T003829Z
URL:http://members.saukprairie.com/events/details/badger-history-group-talk-29279
END:VEVENT

END:VCALENDAR
