BEGIN:VCALENDAR
VERSION:2.0
PRODID:-//ChamberMaster//Event Calendar 2.0//EN
METHOD:PUBLISH
X-PUBLISHED-TTL:P3D
REFRESH-INTERVAL:P3D
CALSCALE:GREGORIAN
BEGIN:VEVENT
DTSTART:20190714T180000Z
DTEND:20190714T230000Z
X-MICROSOFT-CDO-ALLDAYEVENT:FALSE
SUMMARY:Badger Honor Flight Cookout
DESCRIPTION:Join us for brats and beers in our beer garden from 1:00 PM until 6:00 PM on Sunday July 14th for delicious brats from Wyttenbach Meats paired with our amazing craft beers\, with a portion of all sales going to benefit Badger Honor flight who will again be providing a once in a lifetime experience for our honored service men and women!
X-ALT-DESC;FMTTYPE=text/html:<span style="color: rgb(29\, 33\, 41)\; font-family: Helvetica\, Arial\, sans-serif\; font-size: 14px\; white-space: pre-wrap\;">Join us for brats and beers in our beer garden from 1:00 PM until 6:00 PM on Sunday July 14th for delicious brats from Wyttenbach Meats paired with our amazing craft beers\, with a portion of all sales going to benefit Badger Honor flight who will again be providing a once in a lifetime experience for our honored service men and women! </span>
LOCATION:Vintage Brewing Co. 600 Water St. Sauk City
UID:e.1184.22632
SEQUENCE:3
DTSTAMP:20260423T141306Z
URL:http://members.saukprairie.com/events/details/badger-honor-flight-cookout-22632
END:VEVENT

END:VCALENDAR
