BEGIN:VCALENDAR
VERSION:2.0
PRODID:-//ChamberMaster//Event Calendar 2.0//EN
METHOD:PUBLISH
X-PUBLISHED-TTL:P3D
REFRESH-INTERVAL:P3D
CALSCALE:GREGORIAN
BEGIN:VEVENT
DTSTART;VALUE=DATE:20160819
DTEND;VALUE=DATE:20160822
TRANSP:TRANSPARENT
X-MICROSOFT-CDO-ALLDAYEVENT:TRUE
SUMMARY:Badger Steam & Gas Show - 53rd Annual Show
DESCRIPTION:264 Acre Show Site\n\n	Over 50 acres of free parking with shuttle rides around the grounds.\n	Modern restrooms with showers\, primitive camping for exhibitors only.\n	3 level loading dock.\n\nDiplays\n\n\n	Antique steam engines and gas tractors\, over 400 gas engines.\n	Large stationary steam & gas engines\n	Fuller & Johnson museum\n	Women's events building\n	Models and minatures\n	Woodworking\, Blacksmith & Print shops\n	Old cars\, trucks & snowmobiles\n\nField Demonstrations\n\n\n	Sawing logs & shingles\n	Threshing oats\, hulling clover and baling straw\n	Rock crushing\, steam powered well drilling rig and antique construction\n	Silo filling\n\nParade Friday\, Saturday\, & Sunday - 2pm (weather permitting)\n\n\n\nPedal tractor competition\n\nKids & Adults Sunday 11:30am
X-ALT-DESC;FMTTYPE=text/html:264 Acre Show Site\n<ul>\n	<li>Over 50 acres of free parking with shuttle rides around the grounds.</li>\n	<li>Modern restrooms with showers\, primitive camping for exhibitors only.</li>\n	<li>3 level loading dock.</li>\n</ul>\nDiplays\n\n<ul>\n	<li>Antique steam engines and gas tractors\, over 400 gas engines.</li>\n	<li>Large stationary steam &amp\; gas engines</li>\n	<li>Fuller &amp\; Johnson museum</li>\n	<li>Women&#39\;s events building</li>\n	<li>Models and minatures</li>\n	<li>Woodworking\, Blacksmith &amp\; Print shops</li>\n	<li>Old cars\, trucks &amp\; snowmobiles</li>\n</ul>\nField Demonstrations\n\n<ul>\n	<li>Sawing logs &amp\; shingles</li>\n	<li>Threshing oats\, hulling clover and baling straw</li>\n	<li>Rock crushing\, steam powered well drilling rig and antique construction</li>\n	<li>Silo filling</li>\n</ul>\nParade Friday\, Saturday\, &amp\; Sunday - 2pm (weather permitting)<br />\n<br />\nPedal tractor competition<br />\nKids &amp\; Adults Sunday 11:30am<br />\n&nbsp\;
LOCATION:E11259 Shady Lane Road Baraboo\, WI 53913
UID:e.1184.9093
SEQUENCE:3
DTSTAMP:20260425T210249Z
URL:http://members.saukprairie.com/events/details/badger-steam-gas-show-53rd-annual-show-08-19-2016-9093
END:VEVENT

END:VCALENDAR
