BEGIN:VCALENDAR
VERSION:2.0
PRODID:-//ChamberMaster//Event Calendar 2.0//EN
METHOD:PUBLISH
X-PUBLISHED-TTL:P3D
REFRESH-INTERVAL:P3D
CALSCALE:GREGORIAN
BEGIN:VEVENT
DTSTART:20180715T000000Z
DTEND:20180715T020000Z
X-MICROSOFT-CDO-ALLDAYEVENT:FALSE
SUMMARY:Bagpipes at The Glen
DESCRIPTION:Durward's Glen Conference and Retreat Center\, W11876 McLeisch Road\, Baraboo.  Bring your lawn chair or blanket and a bottle of wine for an evening of live Scottish and Irish music honoring the Durward family's heritage.  Free.  Donations warmly welcomed.  Food and refreshments available for purchase.  For more information visit durwardsglen.org\, or call (608) 356-8113.
X-ALT-DESC;FMTTYPE=text/html:<p><span style="font-size: medium\;"><span style="font-family: times new roman\;">Durward&#39\;s Glen Conference and Retreat Center\, W11876 McLeisch Road\, Baraboo.&nbsp\; Bring your lawn chair or blanket and a bottle of wine for an evening of live Scottish and Irish music honoring the Durward family&rsquo\;s heritage.&nbsp\; Free.&nbsp\; Donations warmly welcomed.&nbsp\; Food and refreshments available for purchase.&nbsp\; For more information visit </span></span><a href="http://durwardsglen.org/" target="_blank"><em><span style="text-decoration: none\; text-underline: none\;"><span style="color: windowtext\;"><span style="font-size: medium\;"><span style="font-family: times new roman\;">durwardsglen.org</span></span></span></span></em></a><span style="font-size: medium\;"><span style="font-family: times new roman\;">\, or call </span></span><a href="tel:%28608%29%20356-8113" target="_blank"><span style="font-size: medium\;"><span style="font-family: times new roman\;"><span style="color: rgb(0\, 0\, 255)\;">(608) 356-8113</span></span></span></a><span style="font-size: medium\;"><span style="font-family: times new roman\;">.&nbsp\; </span></span><br />\n&nbsp\;</p>\n
LOCATION:Durward's Glen W11876 McLeisch Road Baraboo\, WI 53913
UID:e.1184.20448
SEQUENCE:3
DTSTAMP:20260424T082729Z
URL:http://members.saukprairie.com/events/details/bagpipes-at-the-glen-20448
END:VEVENT

END:VCALENDAR
