BEGIN:VCALENDAR
VERSION:2.0
PRODID:-//ChamberMaster//Event Calendar 2.0//EN
METHOD:PUBLISH
X-PUBLISHED-TTL:P3D
REFRESH-INTERVAL:P3D
CALSCALE:GREGORIAN
BEGIN:VEVENT
DTSTART:20190713T200000Z
DTEND:20190714T010000Z
X-MICROSOFT-CDO-ALLDAYEVENT:FALSE
SUMMARY:Bagpipes at The Glen
DESCRIPTION:Scottish Heritage!\n\nBring your lawn chairs\, blankets\, picnic baskets\, beverage of choice and relax as performers present you amazing Celtic and Irish music and storytelling! Enjoy the peaceful surroundings and mid-summer's eve. Hope to see you here!\n\n\n\nFood stand with brats and hamburgers available for purchase. Lodging at cost available\; first come\, first serve.\n\nFree to public: suggested donation $3.00 per person\n\n\n\nFor more information visit durwardsglen.org\, or call (608) 356-8113.
X-ALT-DESC;FMTTYPE=text/html:<p>Scottish Heritage!<br />\nBring your lawn chairs\, blankets\, picnic baskets\, beverage of choice and relax as performers present you amazing Celtic and Irish music and storytelling! Enjoy the peaceful surroundings and mid-summer&#39\;s eve. Hope to see you here!<br />\n<br />\nFood stand with brats and hamburgers available for purchase. Lodging at cost available\; first come\, first serve.<br />\nFree to public: suggested donation $3.00 per person<br />\n<br />\n<span style="font-size: medium\;"><span style="font-family: times new roman\;">For more information visit </span></span><a href="http://durwardsglen.org/" target="_blank"><em><span style="text-decoration: none\; text-underline: none\;"><span style="color: windowtext\;"><span style="font-size: medium\;"><span style="font-family: times new roman\;">durwardsglen.org</span></span></span></span></em></a><span style="font-size: medium\;"><span style="font-family: times new roman\;">\, or call </span></span><a href="tel:%28608%29%20356-8113" target="_blank"><span style="font-size: medium\;"><span style="font-family: times new roman\;"><span style="color: rgb(0\, 0\, 255)\;">(608) 356-8113</span></span></span></a><span style="font-size: medium\;"><span style="font-family: times new roman\;">.&nbsp\; </span></span></p>\n
LOCATION:Durward's Glen W11876 McLeisch Road Baraboo\, WI 53913
UID:e.1184.22430
SEQUENCE:3
DTSTAMP:20260423T143302Z
URL:http://members.saukprairie.com/events/details/bagpipes-at-the-glen-22430
END:VEVENT

END:VCALENDAR
