BEGIN:VCALENDAR
VERSION:2.0
PRODID:-//ChamberMaster//Event Calendar 2.0//EN
METHOD:PUBLISH
X-PUBLISHED-TTL:P3D
REFRESH-INTERVAL:P3D
CALSCALE:GREGORIAN
BEGIN:VEVENT
DTSTART:20220709T210000Z
DTEND:20220710T020000Z
X-MICROSOFT-CDO-ALLDAYEVENT:FALSE
SUMMARY:Bagpipes at The Glen
DESCRIPTION:Come out and celebrate our Scottish heritage! Join us for a summer's evening of music\, food and fun! Enjoy the beauty of our 37 acres\, the babbling Prentice Creek and the cool serenity of the Glen itself. Listen to the Piper\, experience the harp\, and dance to the Irish and Scottish music.\n\n\n\n* * * * * FEATURING * * * * *\n\n4-5 pm Highland Dancers\n\n5-6pm Celtic Harpist Shari Sarazin\n\n6-7 pm Scottish Country Music and Dancers\n\n7-8pm Barry Byrnes from Ir ish Fest\n\n8-9pm Piper Mike O'Connell Rick Allison\n\n \n\nWe need volunteers!  Call 608-356-8113 or email us at theglen150@gmail.com.  Volunteers make it happen!\n\n \n\nEntrance Donation $10/car is warmly welcomed! Bring your lawn chair or blanket. Brats\, hamburgers\, chips and drinks alcoholic and non-alcoholic available for purchase.
X-ALT-DESC;FMTTYPE=text/html:<span style="font-family:times new roman\,serif\;"><span style="font-size:12.0pt\;">Come out and celebrate our Scottish heritage! Join us for a summer&#39\;s evening of&nbsp\;music\, food and fun! Enjoy the beauty of our 37 acres\, the babbling Prentice Creek and the cool serenity of the Glen itself. Listen to the Piper\, experience the harp\, and dance to the Irish&nbsp\;and Scottish music.</span></span><br />\n<br />\n* * * * * FEATURING * * * * *<br />\n4-5 pm Highland Dancers<br />\n5-6pm Celtic Harpist Shari Sarazin<br />\n6-7 pm Scottish Country Music and Dancers<br />\n7-8pm Barry Byrnes from Ir ish Fest<br />\n8-9pm Piper Mike O&rsquo\;Connell Rick Allison<br />\n&nbsp\;<br />\n<span style="font-family:times new roman\,serif\;"><span style="font-size:12.0pt\;">We need volunteers!&nbsp\; Call 608-356-8113 or email us at&nbsp\;<a href="mailto:theglen150@gmail.com" target="_blank">theglen150@gmail.com</a>.&nbsp\; Volunteers make it happen!</span></span><br />\n&nbsp\;<br />\n<em><span style="font-family:times new roman\,serif\;"><span style="font-size:12.0pt\;">Entrance Donation $10/car is warmly welcomed! Bring your lawn chair or blanket. Brats\, hamburgers\, chips and drinks alcoholic and non-alcoholic available for purchase.&nbsp\;&nbsp\;</span></span></em>
LOCATION:Durward's Glen W11876 McLeisch Road Baraboo\, WI 53913
UID:e.1184.28011
SEQUENCE:3
DTSTAMP:20260421T103647Z
URL:http://members.saukprairie.com/events/details/bagpipes-at-the-glen-28011
END:VEVENT

END:VCALENDAR
