BEGIN:VCALENDAR
VERSION:2.0
PRODID:-//ChamberMaster//Event Calendar 2.0//EN
METHOD:PUBLISH
X-PUBLISHED-TTL:P3D
REFRESH-INTERVAL:P3D
CALSCALE:GREGORIAN
BEGIN:VEVENT
DTSTART:20230708T210000Z
DTEND:20230709T010000Z
X-MICROSOFT-CDO-ALLDAYEVENT:FALSE
SUMMARY:Bagpipes at The Glen
DESCRIPTION:Come out and celebrate our Scottish heritage! Join us for a summer's evening of music\, food\, and fun! Enjoy the beauty of our 37 acres\, the babbling Prentice Creek and the cool serenity of the Glen itself. Listen to the Piper\, experience the harp\, and dance to the Irish and Scottish music.\nWe are hosting Bagpipers\, live music from local bands\, Scottish food and beverages for purchase.\n\nWe do not charge for attendance\, just $20 per car for parking.\n\nBring your own chair\, blanket\, or comfortable seating for the evening. You may also bring your own snacks and beverages.\n\nDogs and pets are not allowed at this event due to the size and nature of the evening. Trained service dogs are welcome.\n\n \nWe need volunteers!  Call 608-356-8113 or email us at theglen150@gmail.com.  Volunteers make it happen!
X-ALT-DESC;FMTTYPE=text/html:Come out and celebrate our Scottish heritage! Join us for a summer&#39\;s evening of&nbsp\;music\, food\, and fun! Enjoy the beauty of our 37 acres\, the babbling Prentice Creek and the cool serenity of the Glen itself. Listen to the Piper\, experience the harp\, and dance to the Irish&nbsp\;and Scottish music.\n<p>We are hosting Bagpipers\, live music from local bands\, Scottish food and beverages for purchase.</p>\n\n<p>We do not charge for attendance\, just $20 per car for parking.</p>\n\n<p>Bring your own chair\, blanket\, or comfortable seating for the evening. You may also bring your own snacks and beverages.</p>\n\n<p>Dogs and pets are not allowed at this event due to the size and nature of the evening. Trained service dogs are welcome.<br />\n&nbsp\;</p>\nWe need volunteers!&nbsp\; Call 608-356-8113 or email us at&nbsp\;<a href="mailto:theglen150@gmail.com" target="_blank">theglen150@gmail.com</a>.&nbsp\; Volunteers make it happen!
LOCATION:Durward's Glen W11876 McLeisch Road Baraboo\, WI 53913
UID:e.1184.30900
SEQUENCE:3
DTSTAMP:20260420T102451Z
URL:http://members.saukprairie.com/events/details/bagpipes-at-the-glen-30900
END:VEVENT

END:VCALENDAR
