BEGIN:VCALENDAR
VERSION:2.0
PRODID:-//ChamberMaster//Event Calendar 2.0//EN
METHOD:PUBLISH
X-PUBLISHED-TTL:P3D
REFRESH-INTERVAL:P3D
CALSCALE:GREGORIAN
BEGIN:VEVENT
DTSTART:20190406T130000Z
DTEND:20190406T170000Z
X-MICROSOFT-CDO-ALLDAYEVENT:FALSE
SUMMARY:Bake Sale
DESCRIPTION:The Friends of Sauk Prairie Healthcare is hosting a bake sale on Satuday\, April 6\, starting at 8 a.m. at the entrance of Ace Sauk Prairie. Stop in to check out the goodies\, with proceeds going toward hospital and clinic resources.
X-ALT-DESC;FMTTYPE=text/html:The Friends of Sauk Prairie Healthcare is hosting a bake sale on Satuday\, April 6\, starting at 8 a.m. at the entrance of Ace Sauk Prairie. Stop in to check out the goodies\, with proceeds going toward hospital and clinic resources.
LOCATION:500 Water Street\, Sauk City
UID:e.1184.22130
SEQUENCE:3
DTSTAMP:20260423T201149Z
URL:http://members.saukprairie.com/events/details/bake-sale-04-06-2019-22130
END:VEVENT

END:VCALENDAR
