BEGIN:VCALENDAR
VERSION:2.0
PRODID:-//ChamberMaster//Event Calendar 2.0//EN
METHOD:PUBLISH
X-PUBLISHED-TTL:P3D
REFRESH-INTERVAL:P3D
CALSCALE:GREGORIAN
BEGIN:VEVENT
DTSTART:20191012T130000Z
DTEND:20191012T170000Z
X-MICROSOFT-CDO-ALLDAYEVENT:FALSE
SUMMARY:Bake Sale
DESCRIPTION:Stop in to check out the goodies in the entrance of the Ace Sauk Prairie\, hosted by Friends of Sauk Prairie Healthcare. Friends of Sauk Prairie Healthcare has dedicated itself to the improvement of Sauk Prairie Healthcare and its clinics through service\, education and special projects.
X-ALT-DESC;FMTTYPE=text/html:Stop in to check out the goodies in the entrance of the Ace Sauk Prairie\, hosted by Friends of Sauk Prairie Healthcare. Friends of Sauk Prairie Healthcare has dedicated itself to the improvement of Sauk Prairie Healthcare and its clinics through service\, education and special projects.
LOCATION:500 Water Street Sauk City\, WI 53583
UID:e.1184.23161
SEQUENCE:3
DTSTAMP:20260423T095423Z
URL:http://members.saukprairie.com/events/details/bake-sale-10-12-2019-23161
END:VEVENT

END:VCALENDAR
