BEGIN:VCALENDAR
VERSION:2.0
PRODID:-//ChamberMaster//Event Calendar 2.0//EN
METHOD:PUBLISH
X-PUBLISHED-TTL:P3D
REFRESH-INTERVAL:P3D
CALSCALE:GREGORIAN
BEGIN:VEVENT
DTSTART:20171028T130000Z
DTEND:20171028T170000Z
X-MICROSOFT-CDO-ALLDAYEVENT:FALSE
SUMMARY:Bake Sale Friends of Sauk Prairie Healthcare
DESCRIPTION:The Friends of SPH is sponsoring a bake sale. Proceeds from the sale will go toward scholarships for student pursuing healthcare careers and hospital and clinic needs.
X-ALT-DESC;FMTTYPE=text/html:The Friends of SPH is sponsoring a bake sale. Proceeds from the sale will go toward scholarships for student pursuing healthcare careers and hospital and clinic needs.
LOCATION:Ace Sauk Prairie entry way
UID:e.1184.13967
SEQUENCE:3
DTSTAMP:20260424T222431Z
URL:http://members.saukprairie.com/events/details/bake-sale-friends-of-sauk-prairie-healthcare-13967
END:VEVENT

END:VCALENDAR
