BEGIN:VCALENDAR
VERSION:2.0
PRODID:-//ChamberMaster//Event Calendar 2.0//EN
METHOD:PUBLISH
X-PUBLISHED-TTL:P3D
REFRESH-INTERVAL:P3D
CALSCALE:GREGORIAN
BEGIN:VEVENT
DTSTART:20200125T160000Z
DTEND:20200125T170000Z
X-MICROSOFT-CDO-ALLDAYEVENT:FALSE
SUMMARY:Bald Eagle Watching Bus Tour
DESCRIPTION:This fifty-minute bus tour around Sauk City & Prairie du Sac takes you on an informative\, educational route\, with a great view of the majestic birds that call this area home in the height of winter.  Tours start at 10:00am at the Cedarberry Inn and are $5 per person (kids under 5 are free).  Reservations are required.  Please call 1.608.643.6625 to reserve your spot today!
X-ALT-DESC;FMTTYPE=text/html:<p>This fifty-minute bus tour around Sauk City &amp\; Prairie du Sac takes you on an informative\, educational route\, with a great view of the majestic birds that call this area home in the height of winter.&nbsp\; Tours start at 10:00am at the Cedarberry Inn and are $5 per person (kids under 5 are free).&nbsp\; Reservations are required.&nbsp\; Please call 1.608.643.6625&nbsp\;to reserve your spot today!</p>\n
LOCATION:
UID:e.1184.23649
SEQUENCE:3
DTSTAMP:20260423T053532Z
URL:http://members.saukprairie.com/events/details/bald-eagle-watching-bus-tour-23649
END:VEVENT

END:VCALENDAR
