BEGIN:VCALENDAR
VERSION:2.0
PRODID:-//ChamberMaster//Event Calendar 2.0//EN
METHOD:PUBLISH
X-PUBLISHED-TTL:P3D
REFRESH-INTERVAL:P3D
CALSCALE:GREGORIAN
BEGIN:VEVENT
DTSTART;VALUE=DATE:20240210
DTEND;VALUE=DATE:20240211
TRANSP:TRANSPARENT
X-MICROSOFT-CDO-ALLDAYEVENT:TRUE
SUMMARY:Bald Eagle Watching Days 2.0
DESCRIPTION:Bald Eagle Watching Days 2.0\n\n\n\nRiver Arts Center - 105 9th Street\n\n\n\n9 am:  Lobby Open/Ticket Pick-up\n\n10-4 pm:  Expo and Kid Activities\n\n10-11:15 am:  Eagle Release Video + Q&A with REGI\n\n11:30-12:30 pm:  "Laughing with Animals" by David Stokes\n\n2-3:30 pm:  Live Birds of Prey by Schlitz Audubon Nature Center\n\n\n\n**Note:  All shows are FREE but a ticket is required.\n\n\n\nOverlook - 490 Water Street\n\n\n\n8-4 pm:  Eagle Viewing\n\n\n\nTripp Museum - 565 Water Street\n\n\n\n9-4 pm:  Bird Collection\n\n12:45-1:30 pm:  "Native American History and the Spirit of the Bald Eagle"  by Art and Dawn Shegonee
X-ALT-DESC;FMTTYPE=text/html:Bald Eagle Watching Days 2.0<br />\n<br />\n<u><strong>River Arts Center - 105 9th Street</strong></u><br />\n<br />\n9 am:&nbsp\; Lobby Open/Ticket Pick-up<br />\n10-4 pm:&nbsp\; Expo and Kid Activities<br />\n10-11:15 am:&nbsp\; Eagle Release Video + Q&amp\;A with REGI<br />\n11:30-12:30 pm:&nbsp\; &quot\;Laughing with Animals&quot\; by David Stokes<br />\n2-3:30 pm:&nbsp\; Live Birds of Prey by Schlitz Audubon Nature Center<br />\n<br />\n**Note:&nbsp\; All shows are FREE but a ticket is required.<br />\n<br />\n<strong><u>Overlook - 490 Water Street</u></strong><br />\n<br />\n8-4 pm:&nbsp\; Eagle Viewing<br />\n<br />\n<strong><u>Tripp Museum - 565 Water Street</u></strong><br />\n<br />\n9-4 pm:&nbsp\; Bird Collection<br />\n12:45-1:30 pm:&nbsp\; &quot\;Native American History and the Spirit of the Bald Eagle&quot\;&nbsp\; by Art and Dawn Shegonee
LOCATION:
UID:e.1184.31528
SEQUENCE:3
DTSTAMP:20260420T003204Z
URL:http://members.saukprairie.com/events/details/bald-eagle-watching-days-2-0-31528
END:VEVENT

END:VCALENDAR
