BEGIN:VCALENDAR
VERSION:2.0
PRODID:-//ChamberMaster//Event Calendar 2.0//EN
METHOD:PUBLISH
X-PUBLISHED-TTL:P3D
REFRESH-INTERVAL:P3D
CALSCALE:GREGORIAN
BEGIN:VEVENT
DTSTART;VALUE=DATE:20170113
DTEND;VALUE=DATE:20170115
TRANSP:TRANSPARENT
X-MICROSOFT-CDO-ALLDAYEVENT:TRUE
SUMMARY:Bald Eagle Watching Days 2017
DESCRIPTION:Each year\, dozens of eagles winter at Prairie du Sac to fish the open waters of the Wisconsin River. Enjoy Birds of Prey shows\, guided bus tours\, seminars\, and family activities at this free\, family-friendly event.
X-ALT-DESC;FMTTYPE=text/html:Each year\, dozens of eagles winter at Prairie du Sac to fish the open waters of the Wisconsin River. Enjoy Birds of Prey shows\, guided bus tours\, seminars\, and family activities at this free\, family-friendly event.
LOCATION:River Arts Center\, Sauk Prairie High School 105 Ninth Avenue Prairie du Sac\, WI 53578
UID:e.1184.8586
SEQUENCE:3
DTSTAMP:20260425T123838Z
URL:http://members.saukprairie.com/events/details/bald-eagle-watching-days-2017-01-13-2017-8586
END:VEVENT

END:VCALENDAR
