BEGIN:VCALENDAR
VERSION:2.0
PRODID:-//ChamberMaster//Event Calendar 2.0//EN
METHOD:PUBLISH
X-PUBLISHED-TTL:P3D
REFRESH-INTERVAL:P3D
CALSCALE:GREGORIAN
BEGIN:VEVENT
DTSTART;VALUE=DATE:20180112
DTEND;VALUE=DATE:20180114
TRANSP:TRANSPARENT
X-MICROSOFT-CDO-ALLDAYEVENT:TRUE
SUMMARY:Bald Eagle Watching Days 2018
DESCRIPTION:Each year\, dozens of eagles winter at Prairie du Sac to fish the open waters of the Wisconsin River. Enjoy Birds of Prey shows\, guided bus tours\, seminars\, and family activities at this free\, family-friendly event.\n\n\n\nClick here for there brochure with dates and times
X-ALT-DESC;FMTTYPE=text/html:Each year\, dozens of eagles winter at Prairie du Sac to fish the open waters of the Wisconsin River. Enjoy Birds of Prey shows\, guided bus tours\, seminars\, and family activities at this free\, family-friendly event.<br />\n<br />\n<a href="http://ferrybluffeaglecouncil.org/wp-content/uploads/2017/12/2018-BEWD-Brochure-combined.pdf"><strong>Click here for there brochure with dates and times</strong></a>
LOCATION:River Arts Center\, Sauk Prairie High School 105 Ninth Avenue Prairie du Sac\, WI 53578
UID:e.1184.14526
SEQUENCE:3
DTSTAMP:20260424T174818Z
URL:http://members.saukprairie.com/events/details/bald-eagle-watching-days-2018-14526
END:VEVENT

END:VCALENDAR
