BEGIN:VCALENDAR
VERSION:2.0
PRODID:-//ChamberMaster//Event Calendar 2.0//EN
METHOD:PUBLISH
X-PUBLISHED-TTL:P3D
REFRESH-INTERVAL:P3D
CALSCALE:GREGORIAN
BEGIN:VEVENT
DTSTART;VALUE=DATE:20200117
DTEND;VALUE=DATE:20200119
TRANSP:TRANSPARENT
X-MICROSOFT-CDO-ALLDAYEVENT:TRUE
SUMMARY:Bald Eagle Watching Days 2020
DESCRIPTION:Each year\, dozens of eagles winter at Prairie du Sac to fish the open waters of the Wisconsin River. Enjoy Birds of Prey shows\, guided bus tours\, seminars\, and family activities at this free\, family-friendly event.\n\n\n\nClick here to view listing of events\n\n\n\nDue to the impending winter weather the release of a rehabilitated bald eagle during Bald Eagle Watching Days 2020 has been postponed. A release will occur in early February\; date TBA.
X-ALT-DESC;FMTTYPE=text/html:Each year\, dozens of eagles winter at Prairie du Sac to fish the open waters of the Wisconsin River. Enjoy Birds of Prey shows\, guided bus tours\, seminars\, and family activities at this free\, family-friendly event.<br />\n<br />\n<a href="https://ferrybluffeaglecouncil.org/wp-content/uploads/2019/12/2020-BEWD-Brochure-2pgs.pdf">Click here to view listing of events</a><br />\n<br />\nDue to the impending winter weather the release of a rehabilitated bald eagle during Bald Eagle Watching Days 2020 has been postponed. A release will occur in early February\; date TBA.
LOCATION:River Arts Center\, Sauk Prairie High School 105 Ninth Avenue Prairie du Sac\, WI 53578
UID:e.1184.23648
SEQUENCE:3
DTSTAMP:20260423T053436Z
URL:http://members.saukprairie.com/events/details/bald-eagle-watching-days-2020-23648
END:VEVENT

END:VCALENDAR
