BEGIN:VCALENDAR
VERSION:2.0
PRODID:-//ChamberMaster//Event Calendar 2.0//EN
METHOD:PUBLISH
X-PUBLISHED-TTL:P3D
REFRESH-INTERVAL:P3D
CALSCALE:GREGORIAN
BEGIN:VEVENT
DTSTART;VALUE=DATE:20230114
DTEND;VALUE=DATE:20230116
TRANSP:TRANSPARENT
X-MICROSOFT-CDO-ALLDAYEVENT:TRUE
SUMMARY:Bald Eagle Watching Days 2023
DESCRIPTION:Wisconsin's longest-running eagle-watching event is back for 2023!  Come to the newly renovated overlook on Water Street in Prairie du Sac to see eagles over the Wisconsin River\, or attend one of our presentations at the River Arts Center!  Check our previous years' presentations on Ferry Bluff Eagle Council's YouTube channel.\n\n\n\nSaturday\, January 14th:\n\n\n	10am   11:15am  - Schlitz Audubon Nature Center   Raptor Program\n	11:30am   12:30pm - Madison Audubon   Bald Eagle Nest Watch\n	1:30pm   2:45pm -  David Stokes   Laughing with the Animals\n	3:00pm   4:15pm   Raptor Education Group (REGI) - Rehabilitated Bald Eagle Release video & Q&A \n\n\n\n\n\nWisconsin River Wintering Eagle Watch Tour
X-ALT-DESC;FMTTYPE=text/html:<span style="color: rgb(0\, 0\, 0)\; font-family: &quot\;PT Sans Narrow&quot\;\, Helvetica\, Arial\, Verdana\, sans-serif\; font-size: 18px\; text-align: center\;">Wisconsin&rsquo\;s longest-running eagle-watching event is back for 2023!&nbsp\; Come to the newly renovated overlook on Water Street in Prairie du Sac to see eagles over the Wisconsin River\, or attend one of our presentations at the River Arts Center!&nbsp\; Check our previous years&rsquo\; presentations on Ferry Bluff Eagle Council&rsquo\;s&nbsp\;</span><a href="https://www.youtube.com/channel/UCTBZ99Ku6DYNx1FV-1CIxxA" style="padding: 0px\; margin: 0px\; color: rgb(114\, 163\, 147)\; font-family: &quot\;PT Sans Narrow&quot\;\, Helvetica\, Arial\, Verdana\, sans-serif\; font-size: 18px\; text-align: center\;">YouTube channel</a><span style="color: rgb(0\, 0\, 0)\; font-family: &quot\;PT Sans Narrow&quot\;\, Helvetica\, Arial\, Verdana\, sans-serif\; font-size: 18px\; text-align: center\;">.<br />\n<br />\nSaturday\, January 14th:</span>\n\n<ul>\n	<li>10am &ndash\; 11:15am&nbsp\; - Schlitz Audubon Nature Center &ndash\; Raptor Program</li>\n	<li>11:30am &ndash\; 12:30pm - Madison Audubon &ndash\; Bald Eagle Nest Watch</li>\n	<li>1:30pm &ndash\; 2:45pm -&nbsp\; David Stokes &ndash\; Laughing with the Animals</li>\n	<li>3:00pm &ndash\; 4:15pm &ndash\; Raptor Education Group (REGI) - Rehabilitated Bald Eagle Release video &amp\; Q&amp\;A&nbsp\;</li>\n</ul>\n<br />\n<br />\n<a href="https://ferrybluffeaglecouncil.org/eagle-tour-user-guide/"><span style="color: rgb(114\, 163\, 147)\; font-weight: 700\; text-align: center\;">Wisconsin River Wintering Eagle Watch Tour</span></a>
LOCATION:River Arts Center\, Sauk Prairie High School 105 Ninth Avenue Prairie du Sac\, WI 53578
UID:e.1184.28301
SEQUENCE:3
DTSTAMP:20260420T111237Z
URL:http://members.saukprairie.com/events/details/bald-eagle-watching-days-2023-28301
END:VEVENT

END:VCALENDAR
