BEGIN:VCALENDAR
VERSION:2.0
PRODID:-//ChamberMaster//Event Calendar 2.0//EN
METHOD:PUBLISH
X-PUBLISHED-TTL:P3D
REFRESH-INTERVAL:P3D
CALSCALE:GREGORIAN
BEGIN:VEVENT
DTSTART;VALUE=DATE:20240113
DTEND;VALUE=DATE:20240115
TRANSP:TRANSPARENT
X-MICROSOFT-CDO-ALLDAYEVENT:TRUE
SUMMARY:Bald Eagle Watching Days 2024
DESCRIPTION:EAGLE DAYS UPDATE!\n\n\n\nAll events at RAC and Tripp CANCELLED.\n\n\n\nEagle sightings are HIGH- local volunteers will be at the Overlook on Sat and Sunday\, 8-4 pm to help you view the birds. The Tripp Museum will be open from 9- 4 pm on Sat\, they have a fantastic bird collection upstairs to see.\n\n\n\n\n\nWisconsin's longest-running eagle-watching event is back for 2024!  Come to the newly renovated overlook on Water Street in Prairie du Sac to see eagles over the Wisconsin River\, or attend one of our presentations at the River Arts Center!  Check our previous years' presentations on Ferry Bluff Eagle Council's YouTube channel.\n\n2024 Sauk Prairie Bald Eagle Watching Days\n\nSaturday\, Jan 13th & Sunday\, Jan 14th\n\n2024 at the Overlook\, 490 Water St\, Prairie du Sac WI 53578\n\nThe overlook will be staffed with volunteers from 8 am   4 pm to help visitors find eagles and answer questions!\n\nSaturday\, January 13th\n\n\nTripp Heritage Museum\, 565 Water Street\, Prairie du Sac\n\n11 am   12 pm   Eagles in Native American Culture\n\n\nDawn Shegonee\, Menominee Tribal members\n\nPlease pick up your FREE PASSES to all events at the River Arts Center ticket booth on the day of the shows!  All events are free and open to the public\, but you must have a ticket to enter.\n\nFor both Schlitz Audubon shows\, please add at the end the text:  brought to you by ThermoFisher Scientific\, and if you can add a thumbnail of their attached logo that would be great.  River Arts Center\, 105 Ninth St\, Prairie du Sac WI 53578\n\nSaturday Schedule of Events\n\n\n	10 am   11:15   Schlitz Audubon Nature Center   Live Birds of Prey Program\n	11:30 am   12:30 pm   David Stokes   Laughing with the Animals\n	1:30 pm   2:45 pm    Raptor Education Group (REGI)   Rehabilitated Bald Eagle Release video & Q&A with Marge Gibson of REGI\n	 3:00 pm   4:15 pm   Schlitz Audubon Nature Center   Live Birds of Prey Program\n\n\n\n\nThe lobby will be open from 9:30 am   4:00 pm featuring displays\, booths\, and activities for the whole family.\n\n \n\nAll events are free and open to the public!\n\n\n\n\n\n\nWisconsin River Wintering Eagle Watch Tour
X-ALT-DESC;FMTTYPE=text/html:<div class="xdj266r x11i5rnm xat24cr x1mh8g0r x1vvkbs x126k92a" style="margin: 0px\; overflow-wrap: break-word\; white-space: pre-wrap\; font-family: system-ui\, -apple-system\, BlinkMacSystemFont\, &quot\;.SFNSText-Regular&quot\;\, sans-serif\; caret-color: rgb(5\, 5\, 5)\; color: rgb(5\, 5\, 5)\; font-size: 15px\;">\n<div dir="auto" style="font-family: inherit\;"><strong>EAGLE DAYS UPDATE!</strong></div>\n</div>\n\n<div class="x11i5rnm xat24cr x1mh8g0r x1vvkbs xtlvy1s x126k92a" style="margin: 0.5em 0px 0px\; overflow-wrap: break-word\; white-space: pre-wrap\; font-family: system-ui\, -apple-system\, BlinkMacSystemFont\, &quot\;.SFNSText-Regular&quot\;\, sans-serif\; caret-color: rgb(5\, 5\, 5)\; color: rgb(5\, 5\, 5)\; font-size: 15px\;">\n<div dir="auto" style="font-family: inherit\;"><strong>All events at RAC and Tripp CANCELLED.</strong></div>\n</div>\n\n<div class="x11i5rnm xat24cr x1mh8g0r x1vvkbs xtlvy1s x126k92a" style="margin: 0.5em 0px 0px\; overflow-wrap: break-word\; white-space: pre-wrap\; font-family: system-ui\, -apple-system\, BlinkMacSystemFont\, &quot\;.SFNSText-Regular&quot\;\, sans-serif\; caret-color: rgb(5\, 5\, 5)\; color: rgb(5\, 5\, 5)\; font-size: 15px\;">\n<div dir="auto" style="font-family: inherit\;"><strong>Eagle sightings are HIGH- local volunteers will be at the Overlook on Sat and Sunday\, 8-4 pm to help you view the birds. The Tripp Museum will be open from 9- 4 pm on Sat\, they have a fantastic bird collection upstairs to see.</strong></div>\n</div>\n<br />\n<br />\n<span style="color: rgb(0\, 0\, 0)\; font-family: &quot\;PT Sans Narrow&quot\;\, Helvetica\, Arial\, Verdana\, sans-serif\; font-size: 18px\; text-align: center\;">Wisconsin&rsquo\;s longest-running eagle-watching event is back for 2024!&nbsp\; Come to the newly renovated overlook on Water Street in Prairie du Sac to see eagles over the Wisconsin River\, or attend one of our presentations at the River Arts Center!&nbsp\; Check our previous years&rsquo\; presentations on Ferry Bluff Eagle Council&rsquo\;s&nbsp\;</span><a href="https://www.youtube.com/channel/UCTBZ99Ku6DYNx1FV-1CIxxA" style="padding: 0px\; margin: 0px\; color: rgb(114\, 163\, 147)\; font-family: &quot\;PT Sans Narrow&quot\;\, Helvetica\, Arial\, Verdana\, sans-serif\; font-size: 18px\; text-align: center\;">YouTube channel</a><span style="color: rgb(0\, 0\, 0)\; font-family: &quot\;PT Sans Narrow&quot\;\, Helvetica\, Arial\, Verdana\, sans-serif\; font-size: 18px\; text-align: center\;">.</span>\n\n<h2 style="box-sizing: inherit\; padding: 0px\; margin: 0px 0px 0.5em\; font-family: -apple-system\, BlinkMacSystemFont\, &quot\;Segoe UI&quot\;\, Roboto\, Oxygen-Sans\, Ubuntu\, Cantarell\, &quot\;Helvetica Neue&quot\;\, sans-serif\, &quot\;Apple Color Emoji&quot\;\, &quot\;Segoe UI Emoji&quot\;\, &quot\;Segoe UI Symbol&quot\;\; font-weight: 700\; font-size: 36px\; line-height: normal\; color: rgb(255\, 207\, 6)\; text-align: center\;">2024 Sauk Prairie Bald Eagle Watching Days</h2>\n\n<h3 style="box-sizing: inherit\; padding: 0px\; margin: 0px 0px 0.5em\; font-family: -apple-system\, BlinkMacSystemFont\, &quot\;Segoe UI&quot\;\, Roboto\, Oxygen-Sans\, Ubuntu\, Cantarell\, &quot\;Helvetica Neue&quot\;\, sans-serif\, &quot\;Apple Color Emoji&quot\;\, &quot\;Segoe UI Emoji&quot\;\, &quot\;Segoe UI Symbol&quot\;\; font-size: 24px\; line-height: 1.5\; color: var(--global-palette3)\;"><strong style="box-sizing: inherit\; margin-bottom: 0px\;">Saturday\, Jan 13<span style="box-sizing: inherit\; font-size: 18px\; line-height: 0\; position: relative\; vertical-align: baseline\; top: -0.5em\;">th</span>&nbsp\;&amp\; Sunday\, Jan 14<span style="box-sizing: inherit\; font-size: 18px\; line-height: 0\; position: relative\; vertical-align: baseline\; top: -0.5em\; margin-bottom: 0px\;">th</span></strong></h3>\n\n<p style="box-sizing: inherit\; margin-top: 0px\; margin-bottom: var(--global-md-spacing)\; color: rgb(45\, 55\, 72)\; font-family: -apple-system\, BlinkMacSystemFont\, &quot\;Segoe UI&quot\;\, Roboto\, Oxygen-Sans\, Ubuntu\, Cantarell\, &quot\;Helvetica Neue&quot\;\, sans-serif\, &quot\;Apple Color Emoji&quot\;\, &quot\;Segoe UI Emoji&quot\;\, &quot\;Segoe UI Symbol&quot\;\; font-size: 17px\;"><strong style="box-sizing: inherit\; margin-bottom: 0px\;">2024 at the Overlook\, 490 Water St\, Prairie du Sac WI 53578</strong><br style="box-sizing: inherit\; margin-bottom: 0px\;" />\nThe overlook will be staffed with volunteers from 8 am &ndash\; 4 pm to help visitors find eagles and answer questions!</p>\n\n<h3 style="box-sizing: inherit\; padding: 0px\; margin: 1.5em 0px 0.5em\; font-family: -apple-system\, BlinkMacSystemFont\, &quot\;Segoe UI&quot\;\, Roboto\, Oxygen-Sans\, Ubuntu\, Cantarell\, &quot\;Helvetica Neue&quot\;\, sans-serif\, &quot\;Apple Color Emoji&quot\;\, &quot\;Segoe UI Emoji&quot\;\, &quot\;Segoe UI Symbol&quot\;\; font-size: 24px\; line-height: 1.5\; color: var(--global-palette3)\;"><strong style="box-sizing: inherit\; margin-bottom: 0px\;">Saturday\, January 13<span style="box-sizing: inherit\; font-size: 18px\; line-height: 0\; position: relative\; vertical-align: baseline\; top: -0.5em\; margin-bottom: 0px\;">th</span></strong></h3>\n\n<div style="box-sizing: inherit\; margin-top: 0px\; color: rgb(45\, 55\, 72)\; font-family: -apple-system\, BlinkMacSystemFont\, &quot\;Segoe UI&quot\;\, Roboto\, Oxygen-Sans\, Ubuntu\, Cantarell\, &quot\;Helvetica Neue&quot\;\, sans-serif\, &quot\;Apple Color Emoji&quot\;\, &quot\;Segoe UI Emoji&quot\;\, &quot\;Segoe UI Symbol&quot\;\; font-size: 17px\;">\n<p style="box-sizing: inherit\; margin-top: 0px\; margin-bottom: 0px\;"><strong style="box-sizing: inherit\;">Tripp Heritage Museum\,&nbsp\;</strong><strong style="box-sizing: inherit\; margin-bottom: 0px\;">565 Water Street\, Prairie du Sac</strong><br style="box-sizing: inherit\; margin-bottom: 0px\;" />\n11 am &ndash\; 12 pm &ndash\; Eagles in Native American Culture</p>\n</div>\n\n<div style="box-sizing: inherit\; color: rgb(45\, 55\, 72)\; font-family: -apple-system\, BlinkMacSystemFont\, &quot\;Segoe UI&quot\;\, Roboto\, Oxygen-Sans\, Ubuntu\, Cantarell\, &quot\;Helvetica Neue&quot\;\, sans-serif\, &quot\;Apple Color Emoji&quot\;\, &quot\;Segoe UI Emoji&quot\;\, &quot\;Segoe UI Symbol&quot\;\; font-size: 17px\;"><span style="box-sizing: inherit\; margin-bottom: 0px\; font-size: large\;">Dawn Shegonee\, Menominee&nbsp\;Tribal members</span></div>\n\n<h6 style="box-sizing: inherit\; padding: 0px\; margin: 1.5em 0px 0.5em\; font-family: -apple-system\, BlinkMacSystemFont\, &quot\;Segoe UI&quot\;\, Roboto\, Oxygen-Sans\, Ubuntu\, Cantarell\, &quot\;Helvetica Neue&quot\;\, sans-serif\, &quot\;Apple Color Emoji&quot\;\, &quot\;Segoe UI Emoji&quot\;\, &quot\;Segoe UI Symbol&quot\;\; font-weight: 700\; font-size: 18px\; line-height: 1.5\; color: var(--global-palette5)\;">Please pick up your FREE PASSES to all events at the River Arts Center ticket booth on the day of the shows!&nbsp\; All events are free and open to the public\, but you must have a ticket to enter.</h6>\n\n<h6 style="box-sizing: inherit\; padding: 0px\; margin: 0px 0px 0.5em\; font-family: -apple-system\, BlinkMacSystemFont\, &quot\;Segoe UI&quot\;\, Roboto\, Oxygen-Sans\, Ubuntu\, Cantarell\, &quot\;Helvetica Neue&quot\;\, sans-serif\, &quot\;Apple Color Emoji&quot\;\, &quot\;Segoe UI Emoji&quot\;\, &quot\;Segoe UI Symbol&quot\;\; font-weight: 700\; font-size: 18px\; line-height: 1.5\; color: var(--global-palette5)\;">For both Schlitz Audubon shows\, please add at the end the text:&nbsp\; brought to you by ThermoFisher Scientific\, and if you can add a thumbnail of their attached logo that would be great. &nbsp\;<strong style="box-sizing: inherit\; margin-bottom: 0px\;">River Arts Center\, 105 Ninth St\, Prairie du Sac WI 53578</strong></h6>\n\n<h1 style="box-sizing: inherit\; font-size: 32px\; margin: 0px 0px 0.5em\; padding: 0px\; font-family: -apple-system\, BlinkMacSystemFont\, &quot\;Segoe UI&quot\;\, Roboto\, Oxygen-Sans\, Ubuntu\, Cantarell\, &quot\;Helvetica Neue&quot\;\, sans-serif\, &quot\;Apple Color Emoji&quot\;\, &quot\;Segoe UI Emoji&quot\;\, &quot\;Segoe UI Symbol&quot\;\; line-height: 1.5\; color: var(--global-palette3)\;">Saturday Schedule of Events</h1>\n\n<ul style="box-sizing: border-box\; margin: 0 0 var(--global-md-spacing)\; padding-right: 0px\; padding-left: 2em\; list-style-position: initial\; list-style-image: initial\; color: rgb(45\, 55\, 72)\; font-family: -apple-system\, BlinkMacSystemFont\, &quot\;Segoe UI&quot\;\, Roboto\, Oxygen-Sans\, Ubuntu\, Cantarell\, &quot\;Helvetica Neue&quot\;\, sans-serif\, &quot\;Apple Color Emoji&quot\;\, &quot\;Segoe UI Emoji&quot\;\, &quot\;Segoe UI Symbol&quot\;\; font-size: 17px\;">\n	<li style="box-sizing: inherit\;">10 am &ndash\; 11:15 &ndash\; Schlitz Audubon Nature Center &ndash\; Live Birds of Prey Program</li>\n	<li style="box-sizing: inherit\;">11:30 am &ndash\; 12:30 pm &ndash\; David Stokes &ndash\; Laughing with the Animals</li>\n	<li style="box-sizing: inherit\;">1:30 pm &ndash\; 2:45 pm &ndash\;&nbsp\; Raptor Education Group (REGI) &ndash\; Rehabilitated Bald Eagle Release video &amp\; Q&amp\;A with Marge Gibson of REGI</li>\n	<li style="box-sizing: inherit\; margin-bottom: 0px\;">&nbsp\;3:00 pm &ndash\; 4:15 pm &ndash\; Schlitz Audubon Nature Center &ndash\; Live Birds of Prey Program</li>\n</ul>\n\n<p style="box-sizing: inherit\; margin-top: 0px\; margin-bottom: var(--global-md-spacing)\; color: rgb(45\, 55\, 72)\; font-family: -apple-system\, BlinkMacSystemFont\, &quot\;Segoe UI&quot\;\, Roboto\, Oxygen-Sans\, Ubuntu\, Cantarell\, &quot\;Helvetica Neue&quot\;\, sans-serif\, &quot\;Apple Color Emoji&quot\;\, &quot\;Segoe UI Emoji&quot\;\, &quot\;Segoe UI Symbol&quot\;\; font-size: 17px\;"><br />\nThe lobby will be open from 9:30 am &ndash\; 4:00 pm featuring displays\, booths\, and activities for the whole family.<br />\n&nbsp\;</p>\n\n<p style="box-sizing: inherit\; margin-top: 0px\; margin-bottom: 0px\; color: rgb(45\, 55\, 72)\; font-family: -apple-system\, BlinkMacSystemFont\, &quot\;Segoe UI&quot\;\, Roboto\, Oxygen-Sans\, Ubuntu\, Cantarell\, &quot\;Helvetica Neue&quot\;\, sans-serif\, &quot\;Apple Color Emoji&quot\;\, &quot\;Segoe UI Emoji&quot\;\, &quot\;Segoe UI Symbol&quot\;\; font-size: 17px\;">All events are free and open to the public!</p>\n<br />\n<br />\n<br />\n<a href="https://ferrybluffeaglecouncil.org/eagle-tour-user-guide/"><span style="color: rgb(114\, 163\, 147)\; font-weight: 700\; text-align: center\;">Wisconsin River Wintering Eagle Watch Tour</span></a>
LOCATION:River Arts Center\, Sauk Prairie High School 105 Ninth Avenue Prairie du Sac\, WI 53578
UID:e.1184.29949
SEQUENCE:3
DTSTAMP:20260420T020026Z
URL:http://members.saukprairie.com/events/details/bald-eagle-watching-days-2024-29949
END:VEVENT

END:VCALENDAR
